BEGIN:VCALENDAR
VERSION:2.0
PRODID:-//destination.one//NONSGML destination.meta API//DE
X-WR-CALDESC:A calendar powered by destination.meta
X-WR-CALNAME:teutonavigator Kalender via destination.meta
BEGIN:VEVENT
CATEGORIES:Film
DESCRIPTION:Genre: Abenteuer\, Action\, Animation\, Familie\, Fantasy\nRegi
 e: Aaron Horvath\, Michael Jelenic\nDarsteller: Chris Pratt\, Anya Taylor-
 Joy\, Charlie Day\nUS 2026\, FSK: 6\n99 Minuten\n\nmehr Informationen unte
 r http://pages.destination.one/de/teutonavigator/streaming/detail/Event/e_
 101258635/der-super-mario-galaxy-film
DTEND;TZID=Europe/Berlin:20260606T164500
DTSTAMP:20260422T130746Z
DTSTART;TZID=Europe/Berlin:20260606T145000
GEO:51.902844;8.634125
LOCATION:Kinoverein Rhythmus Filmtheater\, Schloß Holte-Stukenbrock\, Am Ha
 llenbad 4\, Schloß Holte-Stukenbrock
ORGANIZER;CN="Kinoverein Rhythmus Filmtheater, 33758 Schloß Holte-Stukenbro
 ck":mailto:info@rhythmusfilm.de
SEQUENCE:0
SUMMARY:Der Super Mario Galaxy Film
UID:e_101258635_iv0
URL:http://pages.destination.one/de/teutonavigator/streaming/detail/Event/e
 _101258635/der-super-mario-galaxy-film
END:VEVENT
BEGIN:VEVENT
CATEGORIES:Film
DESCRIPTION:Genre: Abenteuer\, Action\, Animation\, Familie\, Fantasy\nRegi
 e: Aaron Horvath\, Michael Jelenic\nDarsteller: Chris Pratt\, Anya Taylor-
 Joy\, Charlie Day\nUS 2026\, FSK: 6\n99 Minuten\n\nmehr Informationen unte
 r http://pages.destination.one/de/teutonavigator/streaming/detail/Event/e_
 101258635/der-super-mario-galaxy-film
DTEND;TZID=Europe/Berlin:20260607T164500
DTSTAMP:20260422T130746Z
DTSTART;TZID=Europe/Berlin:20260607T145000
GEO:51.902844;8.634125
LOCATION:Kinoverein Rhythmus Filmtheater\, Schloß Holte-Stukenbrock\, Am Ha
 llenbad 4\, Schloß Holte-Stukenbrock
ORGANIZER;CN="Kinoverein Rhythmus Filmtheater, 33758 Schloß Holte-Stukenbro
 ck":mailto:info@rhythmusfilm.de
SEQUENCE:0
SUMMARY:Der Super Mario Galaxy Film
UID:e_101258635_iv1
URL:http://pages.destination.one/de/teutonavigator/streaming/detail/Event/e
 _101258635/der-super-mario-galaxy-film
END:VEVENT
BEGIN:VTIMEZONE
TZID:Europe/Berlin
X-LIC-LOCATION:Europe/Berlin
BEGIN:DAYLIGHT
DTSTART:19700329T020000
RRULE:FREQ=YEARLY;BYDAY=-1SU;BYMONTH=3
TZNAME:CEST
TZOFFSETFROM:+0100
TZOFFSETTO:+0200
END:DAYLIGHT
BEGIN:STANDARD
DTSTART:19701025T030000
RRULE:FREQ=YEARLY;BYDAY=-1SU;BYMONTH=10
TZNAME:CET
TZOFFSETFROM:+0200
TZOFFSETTO:+0100
END:STANDARD
END:VTIMEZONE
END:VCALENDAR
