BEGIN:VCALENDAR
VERSION:2.0
PRODID:-//destination.one//NONSGML destination.meta API//DE
X-WR-CALDESC:A calendar powered by destination.meta
X-WR-CALNAME:teutonavigator Kalender via destination.meta
BEGIN:VEVENT
CATEGORIES:Film
DESCRIPTION:Genre: Drama\, Komödie\nRegie: Adrian Goiginger\nDarsteller: Va
 lerie Pachner\, Robert Stadlober\, Stefanie Reinsperger\nDE/AT 2026\, FSK:
  12\n121 Minuten\n\nmehr Informationen unter http://pages.destination.one/
 de/teutonavigator/streaming/detail/Event/e_101258625/vier-minus-drei
DTEND;TZID=Europe/Berlin:20260529T221000
DTSTAMP:20260422T130748Z
DTSTART;TZID=Europe/Berlin:20260529T195000
GEO:51.902844;8.634125
LOCATION:Kinoverein Rhythmus Filmtheater\, Schloß Holte-Stukenbrock\, Am Ha
 llenbad 4\, Schloß Holte-Stukenbrock
ORGANIZER;CN="Kinoverein Rhythmus Filmtheater, 33758 Schloß Holte-Stukenbro
 ck":mailto:info@rhythmusfilm.de
SEQUENCE:0
SUMMARY:Vier minus drei
UID:e_101258625_iv0
URL:http://pages.destination.one/de/teutonavigator/streaming/detail/Event/e
 _101258625/vier-minus-drei
END:VEVENT
BEGIN:VEVENT
CATEGORIES:Film
DESCRIPTION:Genre: Drama\, Komödie\nRegie: Adrian Goiginger\nDarsteller: Va
 lerie Pachner\, Robert Stadlober\, Stefanie Reinsperger\nDE/AT 2026\, FSK:
  12\n121 Minuten\n\nmehr Informationen unter http://pages.destination.one/
 de/teutonavigator/streaming/detail/Event/e_101258625/vier-minus-drei
DTEND;TZID=Europe/Berlin:20260531T211000
DTSTAMP:20260422T130748Z
DTSTART;TZID=Europe/Berlin:20260531T185000
GEO:51.902844;8.634125
LOCATION:Kinoverein Rhythmus Filmtheater\, Schloß Holte-Stukenbrock\, Am Ha
 llenbad 4\, Schloß Holte-Stukenbrock
ORGANIZER;CN="Kinoverein Rhythmus Filmtheater, 33758 Schloß Holte-Stukenbro
 ck":mailto:info@rhythmusfilm.de
SEQUENCE:0
SUMMARY:Vier minus drei
UID:e_101258625_iv1
URL:http://pages.destination.one/de/teutonavigator/streaming/detail/Event/e
 _101258625/vier-minus-drei
END:VEVENT
BEGIN:VEVENT
CATEGORIES:Film
DESCRIPTION:Genre: Drama\, Komödie\nRegie: Adrian Goiginger\nDarsteller: Va
 lerie Pachner\, Robert Stadlober\, Stefanie Reinsperger\nDE/AT 2026\, FSK:
  12\n121 Minuten\n\nmehr Informationen unter http://pages.destination.one/
 de/teutonavigator/streaming/detail/Event/e_101258625/vier-minus-drei
DTEND;TZID=Europe/Berlin:20260602T221000
DTSTAMP:20260422T130748Z
DTSTART;TZID=Europe/Berlin:20260602T195000
GEO:51.902844;8.634125
LOCATION:Kinoverein Rhythmus Filmtheater\, Schloß Holte-Stukenbrock\, Am Ha
 llenbad 4\, Schloß Holte-Stukenbrock
ORGANIZER;CN="Kinoverein Rhythmus Filmtheater, 33758 Schloß Holte-Stukenbro
 ck":mailto:info@rhythmusfilm.de
SEQUENCE:0
SUMMARY:Vier minus drei
UID:e_101258625_iv2
URL:http://pages.destination.one/de/teutonavigator/streaming/detail/Event/e
 _101258625/vier-minus-drei
END:VEVENT
BEGIN:VTIMEZONE
TZID:Europe/Berlin
X-LIC-LOCATION:Europe/Berlin
BEGIN:DAYLIGHT
DTSTART:19700329T020000
RRULE:FREQ=YEARLY;BYDAY=-1SU;BYMONTH=3
TZNAME:CEST
TZOFFSETFROM:+0100
TZOFFSETTO:+0200
END:DAYLIGHT
BEGIN:STANDARD
DTSTART:19701025T030000
RRULE:FREQ=YEARLY;BYDAY=-1SU;BYMONTH=10
TZNAME:CET
TZOFFSETFROM:+0200
TZOFFSETTO:+0100
END:STANDARD
END:VTIMEZONE
END:VCALENDAR
