BEGIN:VCALENDAR
VERSION:2.0
PRODID:-//destination.one//NONSGML destination.meta API//DE
X-WR-CALDESC:A calendar powered by destination.meta
X-WR-CALNAME:teutonavigator Kalender via destination.meta
BEGIN:VEVENT
CATEGORIES:Film
DESCRIPTION:Genre: Drama\, Romanze\nRegie: Paolo Sorrentino\nDarsteller: To
 ni Servillo\, Anna Ferzetti\, Orlando Cinque\nIT 2025\, FSK: 12\n133 Minut
 en\n\nmehr Informationen unter http://pages.destination.one/de/teutonaviga
 tor/streaming/detail/Event/e_101258614/la-grazia
DTEND;TZID=Europe/Berlin:20260522T222000
DTSTAMP:20260422T151846Z
DTSTART;TZID=Europe/Berlin:20260522T195000
GEO:51.902844;8.634125
LOCATION:Kinoverein Rhythmus Filmtheater\, Schloß Holte-Stukenbrock\, Am Ha
 llenbad 4\, Schloß Holte-Stukenbrock
ORGANIZER;CN="Kinoverein Rhythmus Filmtheater, 33758 Schloß Holte-Stukenbro
 ck":mailto:info@rhythmusfilm.de
SEQUENCE:0
SUMMARY:La Grazia
UID:e_101258614_iv0
URL:http://pages.destination.one/de/teutonavigator/streaming/detail/Event/e
 _101258614/la-grazia
END:VEVENT
BEGIN:VEVENT
CATEGORIES:Film
DESCRIPTION:Genre: Drama\, Romanze\nRegie: Paolo Sorrentino\nDarsteller: To
 ni Servillo\, Anna Ferzetti\, Orlando Cinque\nIT 2025\, FSK: 12\n133 Minut
 en\n\nmehr Informationen unter http://pages.destination.one/de/teutonaviga
 tor/streaming/detail/Event/e_101258614/la-grazia
DTEND;TZID=Europe/Berlin:20260524T212000
DTSTAMP:20260422T151846Z
DTSTART;TZID=Europe/Berlin:20260524T185000
GEO:51.902844;8.634125
LOCATION:Kinoverein Rhythmus Filmtheater\, Schloß Holte-Stukenbrock\, Am Ha
 llenbad 4\, Schloß Holte-Stukenbrock
ORGANIZER;CN="Kinoverein Rhythmus Filmtheater, 33758 Schloß Holte-Stukenbro
 ck":mailto:info@rhythmusfilm.de
SEQUENCE:0
SUMMARY:La Grazia
UID:e_101258614_iv1
URL:http://pages.destination.one/de/teutonavigator/streaming/detail/Event/e
 _101258614/la-grazia
END:VEVENT
BEGIN:VEVENT
CATEGORIES:Film
DESCRIPTION:Genre: Drama\, Romanze\nRegie: Paolo Sorrentino\nDarsteller: To
 ni Servillo\, Anna Ferzetti\, Orlando Cinque\nIT 2025\, FSK: 12\n133 Minut
 en\n\nmehr Informationen unter http://pages.destination.one/de/teutonaviga
 tor/streaming/detail/Event/e_101258614/la-grazia
DTEND;TZID=Europe/Berlin:20260526T222000
DTSTAMP:20260422T151846Z
DTSTART;TZID=Europe/Berlin:20260526T195000
GEO:51.902844;8.634125
LOCATION:Kinoverein Rhythmus Filmtheater\, Schloß Holte-Stukenbrock\, Am Ha
 llenbad 4\, Schloß Holte-Stukenbrock
ORGANIZER;CN="Kinoverein Rhythmus Filmtheater, 33758 Schloß Holte-Stukenbro
 ck":mailto:info@rhythmusfilm.de
SEQUENCE:0
SUMMARY:La Grazia
UID:e_101258614_iv2
URL:http://pages.destination.one/de/teutonavigator/streaming/detail/Event/e
 _101258614/la-grazia
END:VEVENT
BEGIN:VTIMEZONE
TZID:Europe/Berlin
X-LIC-LOCATION:Europe/Berlin
BEGIN:DAYLIGHT
DTSTART:19700329T020000
RRULE:FREQ=YEARLY;BYDAY=-1SU;BYMONTH=3
TZNAME:CEST
TZOFFSETFROM:+0100
TZOFFSETTO:+0200
END:DAYLIGHT
BEGIN:STANDARD
DTSTART:19701025T030000
RRULE:FREQ=YEARLY;BYDAY=-1SU;BYMONTH=10
TZNAME:CET
TZOFFSETFROM:+0200
TZOFFSETTO:+0100
END:STANDARD
END:VTIMEZONE
END:VCALENDAR
