BEGIN:VCALENDAR
VERSION:2.0
PRODID:-//destination.one//NONSGML destination.meta API//DE
X-WR-CALDESC:A calendar powered by destination.meta
X-WR-CALNAME:teutonavigator Kalender via destination.meta
BEGIN:VEVENT
CATEGORIES:Sport/Freizeit
DESCRIPTION:Das EUROPE DIRECT Kreis Gütersloh veranstaltet in Kooperation m
 it der Stadt Harsewinkel am Dienstag\, 12. Mai\, unter dem Motto „Europa G
 emeinsam Bewegen“ eine offene Laufaktion. Der Start erfolgt um 16:30 Uhr a
 m Rathaus in Harsewinkel. Damit soll ein deutliches Zeichen für den europä
 ischen Zusammenhalt und die gemeinsamen Werte der Europäischen Union geset
 zt werden.\n\nmehr Informationen unter http://pages.destination.one/de/teu
 tonavigator/streaming/detail/Event/e_101258579/europa-lauf-harsewinkel
DTEND;TZID=Europe/Berlin:20260512T183000
DTSTAMP:20260422T130747Z
DTSTART;TZID=Europe/Berlin:20260512T163000
GEO:51.961313;8.223652
LOCATION:Alter Markt - ganze Innenstadt\, Münsterstraße 14\, Harsewinkel
SEQUENCE:0
SUMMARY:Europa-Lauf Harsewinkel
UID:e_101258579_iv0
URL:http://pages.destination.one/de/teutonavigator/streaming/detail/Event/e
 _101258579/europa-lauf-harsewinkel
END:VEVENT
BEGIN:VTIMEZONE
TZID:Europe/Berlin
X-LIC-LOCATION:Europe/Berlin
BEGIN:DAYLIGHT
DTSTART:19700329T020000
RRULE:FREQ=YEARLY;BYDAY=-1SU;BYMONTH=3
TZNAME:CEST
TZOFFSETFROM:+0100
TZOFFSETTO:+0200
END:DAYLIGHT
BEGIN:STANDARD
DTSTART:19701025T030000
RRULE:FREQ=YEARLY;BYDAY=-1SU;BYMONTH=10
TZNAME:CET
TZOFFSETFROM:+0200
TZOFFSETTO:+0100
END:STANDARD
END:VTIMEZONE
END:VCALENDAR
