BEGIN:VCALENDAR
VERSION:2.0
PRODID:-//destination.one//NONSGML destination.meta API//DE
X-WR-CALDESC:A calendar powered by destination.meta
X-WR-CALNAME:teutonavigator Kalender via destination.meta
BEGIN:VEVENT
CATEGORIES:Sport/Freizeit
DESCRIPTION:Gemeinsam mit der Stadt Halle (Westf.) lädt das EUROPE DIRECT K
 reis Gütersloh unter dem Motto „Europa Gemeinsam Bewegen“ am Donnerstag\, 
 14. Mai\, zu einer offenen Laufaktion ein. Los geht es um 12:30 Uhr am Zen
 trum/Bahnhof in Halle. Ziel ist es\, ein sichtbares Signal für den europäi
 schen Zusammenhalt und die gemeinsamen Werte der Europäischen Union zu sen
 den.\n\nmehr Informationen unter http://pages.destination.one/de/teutonavi
 gator/streaming/detail/Event/e_101258559/europa-lauf-halle-westf
DTEND;TZID=Europe/Berlin:20260514T143000
DTSTAMP:20260422T100908Z
DTSTART;TZID=Europe/Berlin:20260514T123000
GEO:52.057089;8.358415
LOCATION:Bahnhof Halle (Westf.)\, Bahnhofstrasse 40\, Halle (Westf.)
SEQUENCE:0
SUMMARY:Europa-Lauf Halle (Westf.)
UID:e_101258559_iv0
URL:http://pages.destination.one/de/teutonavigator/streaming/detail/Event/e
 _101258559/europa-lauf-halle-westf
END:VEVENT
BEGIN:VTIMEZONE
TZID:Europe/Berlin
X-LIC-LOCATION:Europe/Berlin
BEGIN:DAYLIGHT
DTSTART:19700329T020000
RRULE:FREQ=YEARLY;BYDAY=-1SU;BYMONTH=3
TZNAME:CEST
TZOFFSETFROM:+0100
TZOFFSETTO:+0200
END:DAYLIGHT
BEGIN:STANDARD
DTSTART:19701025T030000
RRULE:FREQ=YEARLY;BYDAY=-1SU;BYMONTH=10
TZNAME:CET
TZOFFSETFROM:+0200
TZOFFSETTO:+0100
END:STANDARD
END:VTIMEZONE
END:VCALENDAR
