BEGIN:VCALENDAR
VERSION:2.0
PRODID:-//destination.one//NONSGML destination.meta API//DE
X-WR-CALDESC:A calendar powered by destination.meta
X-WR-CALNAME:teutonavigator Kalender via destination.meta
BEGIN:VEVENT
CATEGORIES:Film
DESCRIPTION:Genre: Drama\nFSK: 12\nRegie: İlker Çatak\nSchauspieler: Özgü N
 amal\, Tansu Biçer\, Leyla Smyrna Cabas\n\nmehr Informationen unter http:/
 /pages.destination.one/de/teutonavigator/streaming/detail/Event/e_10125851
 5/gelbe-briefe-sondervorstellung-mit-ingo-fliess-produzent
DTEND;TZID=Europe/Berlin:20260510T142000
DTSTAMP:20260422T130356Z
DTSTART;TZID=Europe/Berlin:20260510T120000
GEO:51.902844;8.634125
LOCATION:Kinoverein Rhythmus Filmtheater\, Schloß Holte-Stukenbrock\, Am Ha
 llenbad 4\, Schloß Holte-Stukenbrock
ORGANIZER;CN="Kinoverein Rhythmus Filmtheater, 33758 Schloß Holte-Stukenbro
 ck, 33758 Schloß Holte-Stukenbrock":mailto:info@rhythmusfilm.de
SEQUENCE:0
SUMMARY:Gelbe Briefe Sondervorstellung mit  Ingo Fliess (Produzent))
UID:e_101258515_iv0
URL:http://pages.destination.one/de/teutonavigator/streaming/detail/Event/e
 _101258515/gelbe-briefe-sondervorstellung-mit-ingo-fliess-produzent
END:VEVENT
BEGIN:VTIMEZONE
TZID:Europe/Berlin
X-LIC-LOCATION:Europe/Berlin
BEGIN:DAYLIGHT
DTSTART:19700329T020000
RRULE:FREQ=YEARLY;BYDAY=-1SU;BYMONTH=3
TZNAME:CEST
TZOFFSETFROM:+0100
TZOFFSETTO:+0200
END:DAYLIGHT
BEGIN:STANDARD
DTSTART:19701025T030000
RRULE:FREQ=YEARLY;BYDAY=-1SU;BYMONTH=10
TZNAME:CET
TZOFFSETFROM:+0200
TZOFFSETTO:+0100
END:STANDARD
END:VTIMEZONE
END:VCALENDAR
