BEGIN:VCALENDAR
VERSION:2.0
PRODID:-//destination.one//NONSGML destination.meta API//DE
X-WR-CALDESC:A calendar powered by destination.meta
X-WR-CALNAME:teutonavigator Kalender via destination.meta
BEGIN:VEVENT
CATEGORIES:Vortrag/Lesung
DESCRIPTION:Zwischen Stein und Zauber – Märchen am Kahlenbergturm\nEintauch
 en in lebendige Märchen von Prinzen\, Feen\, Zauberern und sprechenden Tie
 ren. Lauschen Sie den Geschichten in entspannter Picknickatmosphäre und ge
 nießen Sie den besonderen Blick vom Turm.\n\nmehr Informationen unter http
 ://pages.destination.one/de/teutonavigator/streaming/detail/Event/e_101258
 480/naturparke-24-zwischen-stein-und-zauber-m-rchenlesung-am-kahlenbergtur
 m
DTEND;TZID=Europe/Berlin:20260524T163000
DTSTAMP:20260421T203527Z
DTSTART;TZID=Europe/Berlin:20260524T150000
GEO:51.911417;9.170859
LOCATION:Kahlenbergturm Schieder\, Mörth\, Schieder-Schwalenberg
SEQUENCE:0
SUMMARY:Naturparke 24 - Zwischen Stein und Zauber: Märchenlesung am Kahlenb
 ergturm
UID:e_101258480_iv0
URL:http://pages.destination.one/de/teutonavigator/streaming/detail/Event/e
 _101258480/naturparke-24-zwischen-stein-und-zauber-m-rchenlesung-am-kahlen
 bergturm
END:VEVENT
BEGIN:VTIMEZONE
TZID:Europe/Berlin
X-LIC-LOCATION:Europe/Berlin
BEGIN:DAYLIGHT
DTSTART:19700329T020000
RRULE:FREQ=YEARLY;BYDAY=-1SU;BYMONTH=3
TZNAME:CEST
TZOFFSETFROM:+0100
TZOFFSETTO:+0200
END:DAYLIGHT
BEGIN:STANDARD
DTSTART:19701025T030000
RRULE:FREQ=YEARLY;BYDAY=-1SU;BYMONTH=10
TZNAME:CET
TZOFFSETFROM:+0200
TZOFFSETTO:+0100
END:STANDARD
END:VTIMEZONE
END:VCALENDAR
