BEGIN:VCALENDAR
VERSION:2.0
PRODID:-//destination.one//NONSGML destination.meta API//DE
X-WR-CALDESC:A calendar powered by destination.meta
X-WR-CALNAME:teutonavigator Kalender via destination.meta
BEGIN:VEVENT
CATEGORIES:Sport/Freizeit
DESCRIPTION:\n\nmehr Informationen unter http://pages.destination.one/de/te
 utonavigator/streaming/detail/Event/e_101258462/41-nationaler-stadtlauf-ba
 d-oeynhausen
DTEND;TZID=Europe/Berlin:20260522T213000
DTSTAMP:20260422T130821Z
DTSTART;TZID=Europe/Berlin:20260522T180000
GEO:52.200137;8.795714
LOCATION:Bad Oeynhausen\, Im Kurpark\, Bad Oeynhausen
ORGANIZER;CN=TG Werste e. V.:mailto:ralf-aumann@freenet.de
SEQUENCE:0
SUMMARY:41. Nationaler Stadtlauf Bad Oeynhausen
UID:e_101258462_iv0
URL:http://pages.destination.one/de/teutonavigator/streaming/detail/Event/e
 _101258462/41-nationaler-stadtlauf-bad-oeynhausen
END:VEVENT
BEGIN:VTIMEZONE
TZID:Europe/Berlin
X-LIC-LOCATION:Europe/Berlin
BEGIN:DAYLIGHT
DTSTART:19700329T020000
RRULE:FREQ=YEARLY;BYDAY=-1SU;BYMONTH=3
TZNAME:CEST
TZOFFSETFROM:+0100
TZOFFSETTO:+0200
END:DAYLIGHT
BEGIN:STANDARD
DTSTART:19701025T030000
RRULE:FREQ=YEARLY;BYDAY=-1SU;BYMONTH=10
TZNAME:CET
TZOFFSETFROM:+0200
TZOFFSETTO:+0100
END:STANDARD
END:VTIMEZONE
END:VCALENDAR
