BEGIN:VCALENDAR
VERSION:2.0
PRODID:-//destination.one//NONSGML destination.meta API//DE
X-WR-CALDESC:A calendar powered by destination.meta
X-WR-CALNAME:teutonavigator Kalender via destination.meta
BEGIN:VEVENT
CATEGORIES:Familie und Kinder
DESCRIPTION:Die Stadt Detmold kommt mit dem Stadtkontakt mobil am Mittwoch\
 , 29. April und am Donnerstag\, 30. April\, jeweils von 13 bis 18 Uhr zum 
 Markant Markt Hofmann.\n\nmehr Informationen unter http://pages.destinatio
 n.one/de/teutonavigator/streaming/detail/Event/e_101258380/das-stadtkontak
 t-mobil-macht-halt-in-remmighausen
DTEND;TZID=Europe/Berlin:20260430T130000
DTSTAMP:20260423T094922Z
DTSTART;TZID=Europe/Berlin:20260429T130000
GEO:0.000000;0.000000
LOCATION:Markant Markt Hofmann\, Hornsche Strraße 208 B\, Detmold
ORGANIZER;CN=Stadt Detmold:http://www.detmold.de/
SEQUENCE:0
SUMMARY:Das Stadtkontakt mobil macht Halt in Remmighausen
UID:e_101258380_iv0
URL:http://pages.destination.one/de/teutonavigator/streaming/detail/Event/e
 _101258380/das-stadtkontakt-mobil-macht-halt-in-remmighausen
END:VEVENT
BEGIN:VTIMEZONE
TZID:Europe/Berlin
X-LIC-LOCATION:Europe/Berlin
BEGIN:DAYLIGHT
DTSTART:19700329T020000
RRULE:FREQ=YEARLY;BYDAY=-1SU;BYMONTH=3
TZNAME:CEST
TZOFFSETFROM:+0100
TZOFFSETTO:+0200
END:DAYLIGHT
BEGIN:STANDARD
DTSTART:19701025T030000
RRULE:FREQ=YEARLY;BYDAY=-1SU;BYMONTH=10
TZNAME:CET
TZOFFSETFROM:+0200
TZOFFSETTO:+0100
END:STANDARD
END:VTIMEZONE
END:VCALENDAR
