BEGIN:VCALENDAR
VERSION:2.0
PRODID:-//destination.one//NONSGML destination.meta API//DE
X-WR-CALDESC:A calendar powered by destination.meta
X-WR-CALNAME:teutonavigator Kalender via destination.meta
BEGIN:VEVENT
CATEGORIES:Konzert divers
DESCRIPTION:\n\nmehr Informationen unter http://pages.destination.one/de/te
 utonavigator/streaming/detail/Event/e_101258291/love-love-love-open-air-ko
 nzert
DTEND;TZID=Europe/Berlin:20260509T235900
DTSTAMP:20260421T164025Z
DTSTART;TZID=Europe/Berlin:20260509T180000
GEO:51.757063;8.661057
LOCATION:Hotel-Restaurant Meermeier\, Ostenländer Str. 5\, Paderborn
ORGANIZER;CN=Blasmusik Sande e.V.:mailto:kontakt@blasmusik-sande.de
SEQUENCE:0
SUMMARY:"Love Love Love" Open-Air-Konzert
UID:e_101258291_iv0
URL:http://pages.destination.one/de/teutonavigator/streaming/detail/Event/e
 _101258291/love-love-love-open-air-konzert
END:VEVENT
BEGIN:VTIMEZONE
TZID:Europe/Berlin
X-LIC-LOCATION:Europe/Berlin
BEGIN:DAYLIGHT
DTSTART:19700329T020000
RRULE:FREQ=YEARLY;BYDAY=-1SU;BYMONTH=3
TZNAME:CEST
TZOFFSETFROM:+0100
TZOFFSETTO:+0200
END:DAYLIGHT
BEGIN:STANDARD
DTSTART:19701025T030000
RRULE:FREQ=YEARLY;BYDAY=-1SU;BYMONTH=10
TZNAME:CET
TZOFFSETFROM:+0200
TZOFFSETTO:+0100
END:STANDARD
END:VTIMEZONE
END:VCALENDAR
