BEGIN:VCALENDAR
VERSION:2.0
PRODID:-//destination.one//NONSGML destination.meta API//DE
X-WR-CALDESC:A calendar powered by destination.meta
X-WR-CALNAME:teutonavigator Kalender via destination.meta
BEGIN:VEVENT
CATEGORIES:Sonstiges
DESCRIPTION:„Ich zähle täglich meine Sorgen“ \n DIE SCHLAGER SIND ZURÜCK UN
 D MIT IHNEN JULIA NIKOLAJCZYK UND THORSTEN SCHÄFFER!\n\nmehr Informationen
  unter http://pages.destination.one/de/teutonavigator/streaming/detail/Eve
 nt/e_101258119/ich-z-hle-t-glich-meine-sorgen
DTEND;TZID=Europe/Berlin:20260529T235900
DTSTAMP:20260422T130822Z
DTSTART;TZID=Europe/Berlin:20260529T190000
GEO:52.286175;8.908757
LOCATION:Kleines Theater am Weingarten\, Königswall 97\, Minden
RRULE:FREQ=WEEKLY;UNTIL=20260529T220000;BYDAY=FR
SEQUENCE:0
SUMMARY:Ich zähle täglich meine Sorgen
UID:e_101258119_iv0
URL:http://pages.destination.one/de/teutonavigator/streaming/detail/Event/e
 _101258119/ich-z-hle-t-glich-meine-sorgen
END:VEVENT
BEGIN:VTIMEZONE
TZID:Europe/Berlin
X-LIC-LOCATION:Europe/Berlin
BEGIN:DAYLIGHT
DTSTART:19700329T020000
RRULE:FREQ=YEARLY;BYDAY=-1SU;BYMONTH=3
TZNAME:CEST
TZOFFSETFROM:+0100
TZOFFSETTO:+0200
END:DAYLIGHT
BEGIN:STANDARD
DTSTART:19701025T030000
RRULE:FREQ=YEARLY;BYDAY=-1SU;BYMONTH=10
TZNAME:CET
TZOFFSETFROM:+0200
TZOFFSETTO:+0100
END:STANDARD
END:VTIMEZONE
END:VCALENDAR
