BEGIN:VCALENDAR
VERSION:2.0
PRODID:-//destination.one//NONSGML destination.meta API//DE
X-WR-CALDESC:A calendar powered by destination.meta
X-WR-CALNAME:teutonavigator Kalender via destination.meta
BEGIN:VEVENT
CATEGORIES:Vortrag/Lesung
DESCRIPTION:\n\nmehr Informationen unter http://pages.destination.one/de/te
 utonavigator/streaming/detail/Event/e_101258109/frank-suchland-stephan-win
 kelhake-lesung-die-sch-nsten-verse-von-joachim-ringelnatz
DTEND;TZID=Europe/Berlin:20260430T220000
DTSTAMP:20260422T100927Z
DTSTART;TZID=Europe/Berlin:20260430T200000
GEO:52.237990;8.921240
LOCATION:Bürgerhaus Porta Westfalica\, Am Park 1\, Porta Westfalica
ORGANIZER;CN=Bürgerhaus Porta Westfalica:mailto:info@buergerhaus-porta.de
SEQUENCE:0
SUMMARY:Frank Suchland & Stephan Winkelhake - Lesung: Die schönsten Verse v
 on Joachim Ringelnatz
UID:e_101258109_iv0
URL:http://pages.destination.one/de/teutonavigator/streaming/detail/Event/e
 _101258109/frank-suchland-stephan-winkelhake-lesung-die-sch-nsten-verse-vo
 n-joachim-ringelnatz
END:VEVENT
BEGIN:VTIMEZONE
TZID:Europe/Berlin
X-LIC-LOCATION:Europe/Berlin
BEGIN:DAYLIGHT
DTSTART:19700329T020000
RRULE:FREQ=YEARLY;BYDAY=-1SU;BYMONTH=3
TZNAME:CEST
TZOFFSETFROM:+0100
TZOFFSETTO:+0200
END:DAYLIGHT
BEGIN:STANDARD
DTSTART:19701025T030000
RRULE:FREQ=YEARLY;BYDAY=-1SU;BYMONTH=10
TZNAME:CET
TZOFFSETFROM:+0200
TZOFFSETTO:+0100
END:STANDARD
END:VTIMEZONE
END:VCALENDAR
