BEGIN:VCALENDAR
VERSION:2.0
PRODID:-//destination.one//NONSGML destination.meta API//DE
X-WR-CALDESC:A calendar powered by destination.meta
X-WR-CALNAME:teutonavigator Kalender via destination.meta
BEGIN:VEVENT
CATEGORIES:Sonstiges
DESCRIPTION:Erlebnisspaziergang zum Sonnenuntergang mit Naturführer Frank M
 estars\n\nmehr Informationen unter http://pages.destination.one/de/teutona
 vigator/streaming/detail/Event/e_101258100/geheimnisvolle-wollgrasbl-te-im
 -kranichrevier
DTEND;TZID=Europe/Berlin:20260523T193000
DTSTAMP:20260423T124301Z
DTSTART;TZID=Europe/Berlin:20260523T170000
GEO:52.500013;8.493161
LOCATION:Wanderparkplatz Summann\, Im Moor 17 / Brahendamm / Ecke Ringweg \
 , Stemwede
ORGANIZER;CN=Naturpark Dümmer - Frank Mestars:mailto:mail@naturpark-duemmer
 .de
SEQUENCE:0
SUMMARY:Geheimnisvolle Wollgrasblüte im Kranichrevier
UID:e_101258100_iv0
URL:http://pages.destination.one/de/teutonavigator/streaming/detail/Event/e
 _101258100/geheimnisvolle-wollgrasbl-te-im-kranichrevier
END:VEVENT
BEGIN:VTIMEZONE
TZID:Europe/Berlin
X-LIC-LOCATION:Europe/Berlin
BEGIN:DAYLIGHT
DTSTART:19700329T020000
RRULE:FREQ=YEARLY;BYDAY=-1SU;BYMONTH=3
TZNAME:CEST
TZOFFSETFROM:+0100
TZOFFSETTO:+0200
END:DAYLIGHT
BEGIN:STANDARD
DTSTART:19701025T030000
RRULE:FREQ=YEARLY;BYDAY=-1SU;BYMONTH=10
TZNAME:CET
TZOFFSETFROM:+0200
TZOFFSETTO:+0100
END:STANDARD
END:VTIMEZONE
END:VCALENDAR
