BEGIN:VCALENDAR
VERSION:2.0
PRODID:-//destination.one//NONSGML destination.meta API//DE
X-WR-CALDESC:A calendar powered by destination.meta
X-WR-CALNAME:teutonavigator Kalender via destination.meta
BEGIN:VEVENT
CATEGORIES:Sonstiges
DESCRIPTION:Du willst einen außergewöhnlichen Abend mit Deinen Lieben verbr
 ingen? Dann ist das Krimi Dinner Eine Leiche im Louvre am 09.01.2027 und a
 m 13.02.2027 genau das Richtige für Dich!\n\nmehr Informationen unter http
 ://pages.destination.one/de/teutonavigator/streaming/detail/Event/e_101257
 827/eine-leiche-im-louvre
DTEND;TZID=Europe/Berlin:20270109T235900
DTSTAMP:20260421T172353Z
DTSTART;TZID=Europe/Berlin:20270109T190000
GEO:52.276652;8.901568
LOCATION:Hotel Bad Minden\, Portastraße 36\, Minden
ORGANIZER;CN=Harald Engesser:mailto:info@engesser-marketing.de
RRULE:FREQ=WEEKLY;UNTIL=20270109T230000;BYDAY=SA
SEQUENCE:0
SUMMARY:Eine Leiche im Louvre
UID:e_101257827_iv0
URL:http://pages.destination.one/de/teutonavigator/streaming/detail/Event/e
 _101257827/eine-leiche-im-louvre
END:VEVENT
BEGIN:VEVENT
CATEGORIES:Sonstiges
DESCRIPTION:Du willst einen außergewöhnlichen Abend mit Deinen Lieben verbr
 ingen? Dann ist das Krimi Dinner Eine Leiche im Louvre am 09.01.2027 und a
 m 13.02.2027 genau das Richtige für Dich!\n\nmehr Informationen unter http
 ://pages.destination.one/de/teutonavigator/streaming/detail/Event/e_101257
 827/eine-leiche-im-louvre
DTEND;TZID=Europe/Berlin:20270213T235900
DTSTAMP:20260421T172353Z
DTSTART;TZID=Europe/Berlin:20270213T190000
GEO:52.276652;8.901568
LOCATION:Hotel Bad Minden\, Portastraße 36\, Minden
ORGANIZER;CN=Harald Engesser:mailto:info@engesser-marketing.de
RRULE:FREQ=WEEKLY;UNTIL=20270213T230000;BYDAY=SA
SEQUENCE:0
SUMMARY:Eine Leiche im Louvre
UID:e_101257827_iv1
URL:http://pages.destination.one/de/teutonavigator/streaming/detail/Event/e
 _101257827/eine-leiche-im-louvre
END:VEVENT
BEGIN:VTIMEZONE
TZID:Europe/Berlin
X-LIC-LOCATION:Europe/Berlin
BEGIN:DAYLIGHT
DTSTART:19700329T020000
RRULE:FREQ=YEARLY;BYDAY=-1SU;BYMONTH=3
TZNAME:CEST
TZOFFSETFROM:+0100
TZOFFSETTO:+0200
END:DAYLIGHT
BEGIN:STANDARD
DTSTART:19701025T030000
RRULE:FREQ=YEARLY;BYDAY=-1SU;BYMONTH=10
TZNAME:CET
TZOFFSETFROM:+0200
TZOFFSETTO:+0100
END:STANDARD
END:VTIMEZONE
END:VCALENDAR
