BEGIN:VCALENDAR
VERSION:2.0
PRODID:-//destination.one//NONSGML destination.meta API//DE
X-WR-CALDESC:A calendar powered by destination.meta
X-WR-CALNAME:teutonavigator Kalender via destination.meta
BEGIN:VEVENT
CATEGORIES:Sonstiges
DESCRIPTION:Du willst einen außergewöhnlichen Abend mit Deinen Lieben verbr
 ingen? Dann ist das Krimi Dinner am 12.12.2026 genau das Richtige für Dich
 !\n\nmehr Informationen unter http://pages.destination.one/de/teutonavigat
 or/streaming/detail/Event/e_101257826/der-letzte-joint-der-marie-juana-ein
 -hippie-krimi
DTEND;TZID=Europe/Berlin:20261212T235900
DTSTAMP:20260421T174832Z
DTSTART;TZID=Europe/Berlin:20261212T190000
GEO:52.286936;8.918932
LOCATION:Scarabeo\, Tonhallenstraße 4\, Minden
ORGANIZER;CN=Harald Engesser:mailto:info@engesser-marketing.de
RRULE:FREQ=WEEKLY;UNTIL=20261212T230000;BYDAY=SA
SEQUENCE:0
SUMMARY:Der letzte Joint der Marie Juana – Ein Hippie Krimi
UID:e_101257826_iv0
URL:http://pages.destination.one/de/teutonavigator/streaming/detail/Event/e
 _101257826/der-letzte-joint-der-marie-juana-ein-hippie-krimi
END:VEVENT
BEGIN:VTIMEZONE
TZID:Europe/Berlin
X-LIC-LOCATION:Europe/Berlin
BEGIN:DAYLIGHT
DTSTART:19700329T020000
RRULE:FREQ=YEARLY;BYDAY=-1SU;BYMONTH=3
TZNAME:CEST
TZOFFSETFROM:+0100
TZOFFSETTO:+0200
END:DAYLIGHT
BEGIN:STANDARD
DTSTART:19701025T030000
RRULE:FREQ=YEARLY;BYDAY=-1SU;BYMONTH=10
TZNAME:CET
TZOFFSETFROM:+0200
TZOFFSETTO:+0100
END:STANDARD
END:VTIMEZONE
END:VCALENDAR
