BEGIN:VCALENDAR
VERSION:2.0
PRODID:-//destination.one//NONSGML destination.meta API//DE
X-WR-CALDESC:A calendar powered by destination.meta
X-WR-CALNAME:teutonavigator Kalender via destination.meta
BEGIN:VEVENT
CATEGORIES:Sonstiges
DESCRIPTION:Ein Dinner. Eine Weltreise. Ein großes Rätsel.\n\nBeim Escape D
 inner „Passepartouts Weltreise“ geht ihr auf eine spannende Reise rund um 
 den Globus – von geheimnisvollen Orten bis zu weltberühmten Schauplätzen.\
 n\nmehr Informationen unter http://pages.destination.one/de/teutonavigator
 /streaming/detail/Event/e_101257824/das-escape-dinner-passepartouts-weltre
 ise
DTEND;TZID=Europe/Berlin:20261114T235900
DTSTAMP:20260421T124252Z
DTSTART;TZID=Europe/Berlin:20261114T190000
GEO:52.276652;8.901568
LOCATION:Hotel Bad Minden\, Portastraße 36\, Minden
ORGANIZER;CN=Harald Engesser:mailto:info@engesser-marketing.de
RRULE:FREQ=WEEKLY;UNTIL=20261114T230000;BYDAY=SA
SEQUENCE:0
SUMMARY:Das Escape Dinner - Passepartouts Weltreise
UID:e_101257824_iv0
URL:http://pages.destination.one/de/teutonavigator/streaming/detail/Event/e
 _101257824/das-escape-dinner-passepartouts-weltreise
END:VEVENT
BEGIN:VTIMEZONE
TZID:Europe/Berlin
X-LIC-LOCATION:Europe/Berlin
BEGIN:DAYLIGHT
DTSTART:19700329T020000
RRULE:FREQ=YEARLY;BYDAY=-1SU;BYMONTH=3
TZNAME:CEST
TZOFFSETFROM:+0100
TZOFFSETTO:+0200
END:DAYLIGHT
BEGIN:STANDARD
DTSTART:19701025T030000
RRULE:FREQ=YEARLY;BYDAY=-1SU;BYMONTH=10
TZNAME:CET
TZOFFSETFROM:+0200
TZOFFSETTO:+0100
END:STANDARD
END:VTIMEZONE
END:VCALENDAR
