BEGIN:VCALENDAR
VERSION:2.0
PRODID:-//destination.one//NONSGML destination.meta API//DE
X-WR-CALDESC:A calendar powered by destination.meta
X-WR-CALNAME:teutonavigator Kalender via destination.meta
BEGIN:VEVENT
CATEGORIES:Sonstiges
DESCRIPTION:Kneipenquiz Scarabeo (Minden) - "Ready To Buzz"\n\nmehr Informa
 tionen unter http://pages.destination.one/de/teutonavigator/streaming/deta
 il/Event/e_101257823/kneipenquiz-ready-to-buzz
DTEND;TZID=Europe/Berlin:20260508T235900
DTSTAMP:20260421T124253Z
DTSTART;TZID=Europe/Berlin:20260508T200000
GEO:52.286936;8.918932
LOCATION:Scarabeo\, Tonhallenstraße 4\, Minden
ORGANIZER;CN=Carsten Knittel:mailto:carsten.knittel@t-online.de
RRULE:FREQ=WEEKLY;UNTIL=20260508T220000;BYDAY=FR
SEQUENCE:0
SUMMARY:Kneipenquiz - Ready to buzz
UID:e_101257823_iv0
URL:http://pages.destination.one/de/teutonavigator/streaming/detail/Event/e
 _101257823/kneipenquiz-ready-to-buzz
END:VEVENT
BEGIN:VTIMEZONE
TZID:Europe/Berlin
X-LIC-LOCATION:Europe/Berlin
BEGIN:DAYLIGHT
DTSTART:19700329T020000
RRULE:FREQ=YEARLY;BYDAY=-1SU;BYMONTH=3
TZNAME:CEST
TZOFFSETFROM:+0100
TZOFFSETTO:+0200
END:DAYLIGHT
BEGIN:STANDARD
DTSTART:19701025T030000
RRULE:FREQ=YEARLY;BYDAY=-1SU;BYMONTH=10
TZNAME:CET
TZOFFSETFROM:+0200
TZOFFSETTO:+0100
END:STANDARD
END:VTIMEZONE
END:VCALENDAR
