BEGIN:VCALENDAR
VERSION:2.0
PRODID:-//destination.one//NONSGML destination.meta API//DE
X-WR-CALDESC:A calendar powered by destination.meta
X-WR-CALNAME:teutonavigator Kalender via destination.meta
BEGIN:VEVENT
CATEGORIES:Wanderung
DESCRIPTION:Diese abwechslungsreiche Rundwanderung führt mitten hinein ins 
 idyllische Furlbachtal. Entlang des plätschernden Furlbachs geht es vorbei
 ...\n\nmehr Informationen unter http://pages.destination.one/de/teutonavig
 ator/streaming/detail/Event/e_101257321/westlippische-wandertour-in-august
 dorf-furlbach-und-sennelandschaft
DTEND;TZID=Europe/Berlin:20260510T123000
DTSTAMP:20260420T110612Z
DTSTART;TZID=Europe/Berlin:20260510T090000
GEO:51.907015;8.727104
LOCATION:Vorplatz horatec-ARENA\, Inselweg 12\, Augustdorf
ORGANIZER;CN=Lippe Tourismus & Marketing GmbH:mailto:hermann@lippe.de
SEQUENCE:0
SUMMARY:Westlippische Wandertour in Augustdorf - Furlbach und Sennelandscha
 ft
UID:e_101257321_iv0
URL:http://pages.destination.one/de/teutonavigator/streaming/detail/Event/e
 _101257321/westlippische-wandertour-in-augustdorf-furlbach-und-sennelandsc
 haft
END:VEVENT
BEGIN:VTIMEZONE
TZID:Europe/Berlin
X-LIC-LOCATION:Europe/Berlin
BEGIN:DAYLIGHT
DTSTART:19700329T020000
RRULE:FREQ=YEARLY;BYDAY=-1SU;BYMONTH=3
TZNAME:CEST
TZOFFSETFROM:+0100
TZOFFSETTO:+0200
END:DAYLIGHT
BEGIN:STANDARD
DTSTART:19701025T030000
RRULE:FREQ=YEARLY;BYDAY=-1SU;BYMONTH=10
TZNAME:CET
TZOFFSETFROM:+0200
TZOFFSETTO:+0100
END:STANDARD
END:VTIMEZONE
END:VCALENDAR
