BEGIN:VCALENDAR
VERSION:2.0
PRODID:-//destination.one//NONSGML destination.meta API//DE
X-WR-CALDESC:A calendar powered by destination.meta
X-WR-CALNAME:teutonavigator Kalender via destination.meta
BEGIN:VEVENT
CATEGORIES:Geselligkeit/Spiele/Treffen
CATEGORIES:Sport/Freizeit
DESCRIPTION:Wiedereröffnung und Saisonstart: Am 01.05.2026 ab 12:00 Uhr ist
  es wieder soweit!\n\nmehr Informationen unter http://pages.destination.on
 e/de/teutonavigator/streaming/detail/Event/e_101256962/saisoner-ffnung-wie
 derer-ffnung-der-minigolfanlage-im-eggetal
DTEND;TZID=Europe/Berlin:20260501T235900
DTSTAMP:20260421T225507Z
DTSTART;TZID=Europe/Berlin:20260501T120000
GEO:52.277979;8.483495
LOCATION:Minigolfanlage im Freizeitpark Eggetal\, Eggetaler Straße 69a\, Pr
 eußisch Oldendorf
ORGANIZER;CN=Minigolfanlage im Freizeitpark Eggetal:mailto:Minigolf-eggetal
 @web.de
SEQUENCE:0
SUMMARY:Saisoneröffnung/Wiedereröffnung der Minigolfanlage im Eggetal
UID:e_101256962_iv0
URL:http://pages.destination.one/de/teutonavigator/streaming/detail/Event/e
 _101256962/saisoner-ffnung-wiederer-ffnung-der-minigolfanlage-im-eggetal
END:VEVENT
BEGIN:VTIMEZONE
TZID:Europe/Berlin
X-LIC-LOCATION:Europe/Berlin
BEGIN:DAYLIGHT
DTSTART:19700329T020000
RRULE:FREQ=YEARLY;BYDAY=-1SU;BYMONTH=3
TZNAME:CEST
TZOFFSETFROM:+0100
TZOFFSETTO:+0200
END:DAYLIGHT
BEGIN:STANDARD
DTSTART:19701025T030000
RRULE:FREQ=YEARLY;BYDAY=-1SU;BYMONTH=10
TZNAME:CET
TZOFFSETFROM:+0200
TZOFFSETTO:+0100
END:STANDARD
END:VTIMEZONE
END:VCALENDAR
