BEGIN:VCALENDAR
VERSION:2.0
PRODID:-//destination.one//NONSGML destination.meta API//DE
X-WR-CALDESC:A calendar powered by destination.meta
X-WR-CALNAME:teutonavigator Kalender via destination.meta
BEGIN:VEVENT
CATEGORIES:Vortrag/Lesung
DESCRIPTION:\n\nmehr Informationen unter http://pages.destination.one/de/te
 utonavigator/streaming/detail/Event/e_101256926/vortrag-couchsurfing-im-ir
 an-mit-stephan-orth
DTEND;TZID=Europe/Berlin:20260507T235900
DTSTAMP:20260421T134940Z
DTSTART;TZID=Europe/Berlin:20260507T190000
GEO:52.343098;8.516638
LOCATION:Gesellschaftshaus Lashorst\, Lübbecker Straße 4\, Preußisch Oldend
 orf
SEQUENCE:0
SUMMARY:Vortrag "Couchsurfing im Iran" mit Stephan Orth
UID:e_101256926_iv0
URL:http://pages.destination.one/de/teutonavigator/streaming/detail/Event/e
 _101256926/vortrag-couchsurfing-im-iran-mit-stephan-orth
END:VEVENT
BEGIN:VTIMEZONE
TZID:Europe/Berlin
X-LIC-LOCATION:Europe/Berlin
BEGIN:DAYLIGHT
DTSTART:19700329T020000
RRULE:FREQ=YEARLY;BYDAY=-1SU;BYMONTH=3
TZNAME:CEST
TZOFFSETFROM:+0100
TZOFFSETTO:+0200
END:DAYLIGHT
BEGIN:STANDARD
DTSTART:19701025T030000
RRULE:FREQ=YEARLY;BYDAY=-1SU;BYMONTH=10
TZNAME:CET
TZOFFSETFROM:+0200
TZOFFSETTO:+0100
END:STANDARD
END:VTIMEZONE
END:VCALENDAR
