BEGIN:VCALENDAR
VERSION:2.0
PRODID:-//destination.one//NONSGML destination.meta API//DE
X-WR-CALDESC:A calendar powered by destination.meta
X-WR-CALNAME:teutonavigator Kalender via destination.meta
BEGIN:VEVENT
CATEGORIES:Sport/Freizeit
CATEGORIES:Turnier/Wettbewerb
CATEGORIES:Wanderung
DESCRIPTION:Alle Wanderbegeisterten sind eingeladen\, die Umgebung rund um 
 Paderborn kennenzulernen.\n\nmehr Informationen unter http://pages.destina
 tion.one/de/teutonavigator/streaming/detail/Event/e_101256651/powertrails-
 das-extrem-wander-event
DTEND;TZID=Europe/Berlin;VALUE=DATE:20261018
DTSTAMP:20260419T161148Z
DTSTART;TZID=Europe/Berlin;VALUE=DATE:20261017
GEO:51.730663;8.748465
LOCATION:Schützenplatz\, Schützenplatz\, Paderborn
ORGANIZER;CN=Trail-Events UG (haftungsbeschränkt):http://https//www.powertr
 ails.de/
SEQUENCE:0
SUMMARY:Powertrails - Das Extrem-Wander-Event
UID:e_101256651_iv0
URL:http://pages.destination.one/de/teutonavigator/streaming/detail/Event/e
 _101256651/powertrails-das-extrem-wander-event
END:VEVENT
BEGIN:VTIMEZONE
TZID:Europe/Berlin
X-LIC-LOCATION:Europe/Berlin
BEGIN:DAYLIGHT
DTSTART:19700329T020000
RRULE:FREQ=YEARLY;BYDAY=-1SU;BYMONTH=3
TZNAME:CEST
TZOFFSETFROM:+0100
TZOFFSETTO:+0200
END:DAYLIGHT
BEGIN:STANDARD
DTSTART:19701025T030000
RRULE:FREQ=YEARLY;BYDAY=-1SU;BYMONTH=10
TZNAME:CET
TZOFFSETFROM:+0200
TZOFFSETTO:+0100
END:STANDARD
END:VTIMEZONE
END:VCALENDAR
