BEGIN:VCALENDAR
VERSION:2.0
PRODID:-//destination.one//NONSGML destination.meta API//DE
X-WR-CALDESC:A calendar powered by destination.meta
X-WR-CALNAME:teutonavigator Kalender via destination.meta
BEGIN:VEVENT
CATEGORIES:Sonstiges
CATEGORIES:Vortrag/Lesung
DESCRIPTION:Wirtschaftliche und soziale Folgen von Hochrüstung und Militari
 sierung\n\nmehr Informationen unter http://pages.destination.one/de/teuton
 avigator/streaming/detail/Event/e_101256643/hochr-stung-oder-soziale-dasei
 nsvorsorge
DTEND;TZID=Europe/Berlin:20260507T210000
DTSTAMP:20260421T140155Z
DTSTART;TZID=Europe/Berlin:20260507T190000
GEO:52.022415;8.543532
LOCATION:Volkshochschule Bielefeld\, Ravensberger Park 1\, Bielefeld
SEQUENCE:0
SUMMARY:Hochrüstung oder soziale Daseinsvorsorge?
UID:e_101256643_iv0
URL:http://pages.destination.one/de/teutonavigator/streaming/detail/Event/e
 _101256643/hochr-stung-oder-soziale-daseinsvorsorge
END:VEVENT
BEGIN:VTIMEZONE
TZID:Europe/Berlin
X-LIC-LOCATION:Europe/Berlin
BEGIN:DAYLIGHT
DTSTART:19700329T020000
RRULE:FREQ=YEARLY;BYDAY=-1SU;BYMONTH=3
TZNAME:CEST
TZOFFSETFROM:+0100
TZOFFSETTO:+0200
END:DAYLIGHT
BEGIN:STANDARD
DTSTART:19701025T030000
RRULE:FREQ=YEARLY;BYDAY=-1SU;BYMONTH=10
TZNAME:CET
TZOFFSETFROM:+0200
TZOFFSETTO:+0100
END:STANDARD
END:VTIMEZONE
END:VCALENDAR
