BEGIN:VCALENDAR
VERSION:2.0
PRODID:-//destination.one//NONSGML destination.meta API//DE
X-WR-CALDESC:A calendar powered by destination.meta
X-WR-CALNAME:teutonavigator Kalender via destination.meta
BEGIN:VEVENT
CATEGORIES:Ausstellung
CATEGORIES:Brauchtum/Kultur
CATEGORIES:Workshop
DESCRIPTION:\n\nmehr Informationen unter http://pages.destination.one/de/te
 utonavigator/streaming/detail/Event/e_101256633/kurs-2-kritzeln-kneten-kri
 ckelakrack-ausgebucht
DTEND;TZID=Europe/Berlin:20260422T170000
DTSTAMP:20260419T202740Z
DTSTART;TZID=Europe/Berlin:20260422T153000
GEO:52.018100;8.525970
LOCATION:Kunsthalle Bielefeld\, Artur-Ladebeck-Straße 5\, Bielefeld
SEQUENCE:0
SUMMARY:Kurs 2: Kritzeln\, Kneten\, Krickelakrack AUSGEBUCHT
UID:e_101256633_iv0
URL:http://pages.destination.one/de/teutonavigator/streaming/detail/Event/e
 _101256633/kurs-2-kritzeln-kneten-krickelakrack-ausgebucht
END:VEVENT
BEGIN:VEVENT
CATEGORIES:Ausstellung
CATEGORIES:Brauchtum/Kultur
CATEGORIES:Workshop
DESCRIPTION:\n\nmehr Informationen unter http://pages.destination.one/de/te
 utonavigator/streaming/detail/Event/e_101256633/kurs-2-kritzeln-kneten-kri
 ckelakrack-ausgebucht
DTEND;TZID=Europe/Berlin:20260429T170000
DTSTAMP:20260419T202740Z
DTSTART;TZID=Europe/Berlin:20260429T153000
GEO:52.018100;8.525970
LOCATION:Kunsthalle Bielefeld\, Artur-Ladebeck-Straße 5\, Bielefeld
SEQUENCE:0
SUMMARY:Kurs 2: Kritzeln\, Kneten\, Krickelakrack AUSGEBUCHT
UID:e_101256633_iv1
URL:http://pages.destination.one/de/teutonavigator/streaming/detail/Event/e
 _101256633/kurs-2-kritzeln-kneten-krickelakrack-ausgebucht
END:VEVENT
BEGIN:VEVENT
CATEGORIES:Ausstellung
CATEGORIES:Brauchtum/Kultur
CATEGORIES:Workshop
DESCRIPTION:\n\nmehr Informationen unter http://pages.destination.one/de/te
 utonavigator/streaming/detail/Event/e_101256633/kurs-2-kritzeln-kneten-kri
 ckelakrack-ausgebucht
DTEND;TZID=Europe/Berlin:20260506T170000
DTSTAMP:20260419T202740Z
DTSTART;TZID=Europe/Berlin:20260506T153000
GEO:52.018100;8.525970
LOCATION:Kunsthalle Bielefeld\, Artur-Ladebeck-Straße 5\, Bielefeld
SEQUENCE:0
SUMMARY:Kurs 2: Kritzeln\, Kneten\, Krickelakrack AUSGEBUCHT
UID:e_101256633_iv2
URL:http://pages.destination.one/de/teutonavigator/streaming/detail/Event/e
 _101256633/kurs-2-kritzeln-kneten-krickelakrack-ausgebucht
END:VEVENT
BEGIN:VEVENT
CATEGORIES:Ausstellung
CATEGORIES:Brauchtum/Kultur
CATEGORIES:Workshop
DESCRIPTION:\n\nmehr Informationen unter http://pages.destination.one/de/te
 utonavigator/streaming/detail/Event/e_101256633/kurs-2-kritzeln-kneten-kri
 ckelakrack-ausgebucht
DTEND;TZID=Europe/Berlin:20260513T170000
DTSTAMP:20260419T202740Z
DTSTART;TZID=Europe/Berlin:20260513T153000
GEO:52.018100;8.525970
LOCATION:Kunsthalle Bielefeld\, Artur-Ladebeck-Straße 5\, Bielefeld
SEQUENCE:0
SUMMARY:Kurs 2: Kritzeln\, Kneten\, Krickelakrack AUSGEBUCHT
UID:e_101256633_iv3
URL:http://pages.destination.one/de/teutonavigator/streaming/detail/Event/e
 _101256633/kurs-2-kritzeln-kneten-krickelakrack-ausgebucht
END:VEVENT
BEGIN:VEVENT
CATEGORIES:Ausstellung
CATEGORIES:Brauchtum/Kultur
CATEGORIES:Workshop
DESCRIPTION:\n\nmehr Informationen unter http://pages.destination.one/de/te
 utonavigator/streaming/detail/Event/e_101256633/kurs-2-kritzeln-kneten-kri
 ckelakrack-ausgebucht
DTEND;TZID=Europe/Berlin:20260520T170000
DTSTAMP:20260419T202740Z
DTSTART;TZID=Europe/Berlin:20260520T153000
GEO:52.018100;8.525970
LOCATION:Kunsthalle Bielefeld\, Artur-Ladebeck-Straße 5\, Bielefeld
SEQUENCE:0
SUMMARY:Kurs 2: Kritzeln\, Kneten\, Krickelakrack AUSGEBUCHT
UID:e_101256633_iv4
URL:http://pages.destination.one/de/teutonavigator/streaming/detail/Event/e
 _101256633/kurs-2-kritzeln-kneten-krickelakrack-ausgebucht
END:VEVENT
BEGIN:VEVENT
CATEGORIES:Ausstellung
CATEGORIES:Brauchtum/Kultur
CATEGORIES:Workshop
DESCRIPTION:\n\nmehr Informationen unter http://pages.destination.one/de/te
 utonavigator/streaming/detail/Event/e_101256633/kurs-2-kritzeln-kneten-kri
 ckelakrack-ausgebucht
DTEND;TZID=Europe/Berlin:20260527T170000
DTSTAMP:20260419T202740Z
DTSTART;TZID=Europe/Berlin:20260527T153000
GEO:52.018100;8.525970
LOCATION:Kunsthalle Bielefeld\, Artur-Ladebeck-Straße 5\, Bielefeld
SEQUENCE:0
SUMMARY:Kurs 2: Kritzeln\, Kneten\, Krickelakrack AUSGEBUCHT
UID:e_101256633_iv5
URL:http://pages.destination.one/de/teutonavigator/streaming/detail/Event/e
 _101256633/kurs-2-kritzeln-kneten-krickelakrack-ausgebucht
END:VEVENT
BEGIN:VEVENT
CATEGORIES:Ausstellung
CATEGORIES:Brauchtum/Kultur
CATEGORIES:Workshop
DESCRIPTION:\n\nmehr Informationen unter http://pages.destination.one/de/te
 utonavigator/streaming/detail/Event/e_101256633/kurs-2-kritzeln-kneten-kri
 ckelakrack-ausgebucht
DTEND;TZID=Europe/Berlin:20260603T170000
DTSTAMP:20260419T202740Z
DTSTART;TZID=Europe/Berlin:20260603T153000
GEO:52.018100;8.525970
LOCATION:Kunsthalle Bielefeld\, Artur-Ladebeck-Straße 5\, Bielefeld
SEQUENCE:0
SUMMARY:Kurs 2: Kritzeln\, Kneten\, Krickelakrack AUSGEBUCHT
UID:e_101256633_iv6
URL:http://pages.destination.one/de/teutonavigator/streaming/detail/Event/e
 _101256633/kurs-2-kritzeln-kneten-krickelakrack-ausgebucht
END:VEVENT
BEGIN:VEVENT
CATEGORIES:Ausstellung
CATEGORIES:Brauchtum/Kultur
CATEGORIES:Workshop
DESCRIPTION:\n\nmehr Informationen unter http://pages.destination.one/de/te
 utonavigator/streaming/detail/Event/e_101256633/kurs-2-kritzeln-kneten-kri
 ckelakrack-ausgebucht
DTEND;TZID=Europe/Berlin:20260610T170000
DTSTAMP:20260419T202740Z
DTSTART;TZID=Europe/Berlin:20260610T153000
GEO:52.018100;8.525970
LOCATION:Kunsthalle Bielefeld\, Artur-Ladebeck-Straße 5\, Bielefeld
SEQUENCE:0
SUMMARY:Kurs 2: Kritzeln\, Kneten\, Krickelakrack AUSGEBUCHT
UID:e_101256633_iv7
URL:http://pages.destination.one/de/teutonavigator/streaming/detail/Event/e
 _101256633/kurs-2-kritzeln-kneten-krickelakrack-ausgebucht
END:VEVENT
BEGIN:VTIMEZONE
TZID:Europe/Berlin
X-LIC-LOCATION:Europe/Berlin
BEGIN:DAYLIGHT
DTSTART:19700329T020000
RRULE:FREQ=YEARLY;BYDAY=-1SU;BYMONTH=3
TZNAME:CEST
TZOFFSETFROM:+0100
TZOFFSETTO:+0200
END:DAYLIGHT
BEGIN:STANDARD
DTSTART:19701025T030000
RRULE:FREQ=YEARLY;BYDAY=-1SU;BYMONTH=10
TZNAME:CET
TZOFFSETFROM:+0200
TZOFFSETTO:+0100
END:STANDARD
END:VTIMEZONE
END:VCALENDAR
