BEGIN:VCALENDAR
VERSION:2.0
PRODID:-//destination.one//NONSGML destination.meta API//DE
X-WR-CALDESC:A calendar powered by destination.meta
X-WR-CALNAME:teutonavigator Kalender via destination.meta
BEGIN:VEVENT
CATEGORIES:Ausstellung
CATEGORIES:Brauchtum/Kultur
DESCRIPTION:\n\nmehr Informationen unter http://pages.destination.one/de/te
 utonavigator/streaming/detail/Event/e_101256632/ffentliche-f-hrung
DTEND;TZID=Europe/Berlin:20260419T123000
DTSTAMP:20260422T123113Z
DTSTART;TZID=Europe/Berlin:20260419T113000
GEO:52.018100;8.525970
LOCATION:Kunsthalle Bielefeld\, Artur-Ladebeck-Straße 5\, Bielefeld
SEQUENCE:0
SUMMARY:Öffentliche Führung
UID:e_101256632_iv0
URL:http://pages.destination.one/de/teutonavigator/streaming/detail/Event/e
 _101256632/ffentliche-f-hrung
END:VEVENT
BEGIN:VEVENT
CATEGORIES:Ausstellung
CATEGORIES:Brauchtum/Kultur
DESCRIPTION:\n\nmehr Informationen unter http://pages.destination.one/de/te
 utonavigator/streaming/detail/Event/e_101256632/ffentliche-f-hrung
DTEND;TZID=Europe/Berlin:20260419T170000
DTSTAMP:20260422T123113Z
DTSTART;TZID=Europe/Berlin:20260419T160000
GEO:52.018100;8.525970
LOCATION:Kunsthalle Bielefeld\, Artur-Ladebeck-Straße 5\, Bielefeld
SEQUENCE:0
SUMMARY:Öffentliche Führung
UID:e_101256632_iv1
URL:http://pages.destination.one/de/teutonavigator/streaming/detail/Event/e
 _101256632/ffentliche-f-hrung
END:VEVENT
BEGIN:VEVENT
CATEGORIES:Ausstellung
CATEGORIES:Brauchtum/Kultur
DESCRIPTION:\n\nmehr Informationen unter http://pages.destination.one/de/te
 utonavigator/streaming/detail/Event/e_101256632/ffentliche-f-hrung
DTEND;TZID=Europe/Berlin:20260422T200000
DTSTAMP:20260422T123113Z
DTSTART;TZID=Europe/Berlin:20260422T190000
GEO:52.018100;8.525970
LOCATION:Kunsthalle Bielefeld\, Artur-Ladebeck-Straße 5\, Bielefeld
SEQUENCE:0
SUMMARY:Öffentliche Führung
UID:e_101256632_iv2
URL:http://pages.destination.one/de/teutonavigator/streaming/detail/Event/e
 _101256632/ffentliche-f-hrung
END:VEVENT
BEGIN:VEVENT
CATEGORIES:Ausstellung
CATEGORIES:Brauchtum/Kultur
DESCRIPTION:\n\nmehr Informationen unter http://pages.destination.one/de/te
 utonavigator/streaming/detail/Event/e_101256632/ffentliche-f-hrung
DTEND;TZID=Europe/Berlin:20260426T123000
DTSTAMP:20260422T123113Z
DTSTART;TZID=Europe/Berlin:20260426T113000
GEO:52.018100;8.525970
LOCATION:Kunsthalle Bielefeld\, Artur-Ladebeck-Straße 5\, Bielefeld
SEQUENCE:0
SUMMARY:Öffentliche Führung
UID:e_101256632_iv3
URL:http://pages.destination.one/de/teutonavigator/streaming/detail/Event/e
 _101256632/ffentliche-f-hrung
END:VEVENT
BEGIN:VEVENT
CATEGORIES:Ausstellung
CATEGORIES:Brauchtum/Kultur
DESCRIPTION:\n\nmehr Informationen unter http://pages.destination.one/de/te
 utonavigator/streaming/detail/Event/e_101256632/ffentliche-f-hrung
DTEND;TZID=Europe/Berlin:20260426T170000
DTSTAMP:20260422T123113Z
DTSTART;TZID=Europe/Berlin:20260426T160000
GEO:52.018100;8.525970
LOCATION:Kunsthalle Bielefeld\, Artur-Ladebeck-Straße 5\, Bielefeld
SEQUENCE:0
SUMMARY:Öffentliche Führung
UID:e_101256632_iv4
URL:http://pages.destination.one/de/teutonavigator/streaming/detail/Event/e
 _101256632/ffentliche-f-hrung
END:VEVENT
BEGIN:VEVENT
CATEGORIES:Ausstellung
CATEGORIES:Brauchtum/Kultur
DESCRIPTION:\n\nmehr Informationen unter http://pages.destination.one/de/te
 utonavigator/streaming/detail/Event/e_101256632/ffentliche-f-hrung
DTEND;TZID=Europe/Berlin:20260429T200000
DTSTAMP:20260422T123113Z
DTSTART;TZID=Europe/Berlin:20260429T190000
GEO:52.018100;8.525970
LOCATION:Kunsthalle Bielefeld\, Artur-Ladebeck-Straße 5\, Bielefeld
SEQUENCE:0
SUMMARY:Öffentliche Führung
UID:e_101256632_iv5
URL:http://pages.destination.one/de/teutonavigator/streaming/detail/Event/e
 _101256632/ffentliche-f-hrung
END:VEVENT
BEGIN:VEVENT
CATEGORIES:Ausstellung
CATEGORIES:Brauchtum/Kultur
DESCRIPTION:\n\nmehr Informationen unter http://pages.destination.one/de/te
 utonavigator/streaming/detail/Event/e_101256632/ffentliche-f-hrung
DTEND;TZID=Europe/Berlin:20260501T123000
DTSTAMP:20260422T123113Z
DTSTART;TZID=Europe/Berlin:20260501T113000
GEO:52.018100;8.525970
LOCATION:Kunsthalle Bielefeld\, Artur-Ladebeck-Straße 5\, Bielefeld
SEQUENCE:0
SUMMARY:Öffentliche Führung
UID:e_101256632_iv6
URL:http://pages.destination.one/de/teutonavigator/streaming/detail/Event/e
 _101256632/ffentliche-f-hrung
END:VEVENT
BEGIN:VEVENT
CATEGORIES:Ausstellung
CATEGORIES:Brauchtum/Kultur
DESCRIPTION:\n\nmehr Informationen unter http://pages.destination.one/de/te
 utonavigator/streaming/detail/Event/e_101256632/ffentliche-f-hrung
DTEND;TZID=Europe/Berlin:20260501T170000
DTSTAMP:20260422T123113Z
DTSTART;TZID=Europe/Berlin:20260501T160000
GEO:52.018100;8.525970
LOCATION:Kunsthalle Bielefeld\, Artur-Ladebeck-Straße 5\, Bielefeld
SEQUENCE:0
SUMMARY:Öffentliche Führung
UID:e_101256632_iv7
URL:http://pages.destination.one/de/teutonavigator/streaming/detail/Event/e
 _101256632/ffentliche-f-hrung
END:VEVENT
BEGIN:VEVENT
CATEGORIES:Ausstellung
CATEGORIES:Brauchtum/Kultur
DESCRIPTION:\n\nmehr Informationen unter http://pages.destination.one/de/te
 utonavigator/streaming/detail/Event/e_101256632/ffentliche-f-hrung
DTEND;TZID=Europe/Berlin:20260503T123000
DTSTAMP:20260422T123113Z
DTSTART;TZID=Europe/Berlin:20260503T113000
GEO:52.018100;8.525970
LOCATION:Kunsthalle Bielefeld\, Artur-Ladebeck-Straße 5\, Bielefeld
SEQUENCE:0
SUMMARY:Öffentliche Führung
UID:e_101256632_iv8
URL:http://pages.destination.one/de/teutonavigator/streaming/detail/Event/e
 _101256632/ffentliche-f-hrung
END:VEVENT
BEGIN:VEVENT
CATEGORIES:Ausstellung
CATEGORIES:Brauchtum/Kultur
DESCRIPTION:\n\nmehr Informationen unter http://pages.destination.one/de/te
 utonavigator/streaming/detail/Event/e_101256632/ffentliche-f-hrung
DTEND;TZID=Europe/Berlin:20260503T170000
DTSTAMP:20260422T123113Z
DTSTART;TZID=Europe/Berlin:20260503T160000
GEO:52.018100;8.525970
LOCATION:Kunsthalle Bielefeld\, Artur-Ladebeck-Straße 5\, Bielefeld
SEQUENCE:0
SUMMARY:Öffentliche Führung
UID:e_101256632_iv9
URL:http://pages.destination.one/de/teutonavigator/streaming/detail/Event/e
 _101256632/ffentliche-f-hrung
END:VEVENT
BEGIN:VEVENT
CATEGORIES:Ausstellung
CATEGORIES:Brauchtum/Kultur
DESCRIPTION:\n\nmehr Informationen unter http://pages.destination.one/de/te
 utonavigator/streaming/detail/Event/e_101256632/ffentliche-f-hrung
DTEND;TZID=Europe/Berlin:20260506T200000
DTSTAMP:20260422T123113Z
DTSTART;TZID=Europe/Berlin:20260506T190000
GEO:52.018100;8.525970
LOCATION:Kunsthalle Bielefeld\, Artur-Ladebeck-Straße 5\, Bielefeld
SEQUENCE:0
SUMMARY:Öffentliche Führung
UID:e_101256632_iv10
URL:http://pages.destination.one/de/teutonavigator/streaming/detail/Event/e
 _101256632/ffentliche-f-hrung
END:VEVENT
BEGIN:VEVENT
CATEGORIES:Ausstellung
CATEGORIES:Brauchtum/Kultur
DESCRIPTION:\n\nmehr Informationen unter http://pages.destination.one/de/te
 utonavigator/streaming/detail/Event/e_101256632/ffentliche-f-hrung
DTEND;TZID=Europe/Berlin:20260510T123000
DTSTAMP:20260422T123113Z
DTSTART;TZID=Europe/Berlin:20260510T113000
GEO:52.018100;8.525970
LOCATION:Kunsthalle Bielefeld\, Artur-Ladebeck-Straße 5\, Bielefeld
SEQUENCE:0
SUMMARY:Öffentliche Führung
UID:e_101256632_iv11
URL:http://pages.destination.one/de/teutonavigator/streaming/detail/Event/e
 _101256632/ffentliche-f-hrung
END:VEVENT
BEGIN:VEVENT
CATEGORIES:Ausstellung
CATEGORIES:Brauchtum/Kultur
DESCRIPTION:\n\nmehr Informationen unter http://pages.destination.one/de/te
 utonavigator/streaming/detail/Event/e_101256632/ffentliche-f-hrung
DTEND;TZID=Europe/Berlin:20260510T170000
DTSTAMP:20260422T123113Z
DTSTART;TZID=Europe/Berlin:20260510T160000
GEO:52.018100;8.525970
LOCATION:Kunsthalle Bielefeld\, Artur-Ladebeck-Straße 5\, Bielefeld
SEQUENCE:0
SUMMARY:Öffentliche Führung
UID:e_101256632_iv12
URL:http://pages.destination.one/de/teutonavigator/streaming/detail/Event/e
 _101256632/ffentliche-f-hrung
END:VEVENT
BEGIN:VEVENT
CATEGORIES:Ausstellung
CATEGORIES:Brauchtum/Kultur
DESCRIPTION:\n\nmehr Informationen unter http://pages.destination.one/de/te
 utonavigator/streaming/detail/Event/e_101256632/ffentliche-f-hrung
DTEND;TZID=Europe/Berlin:20260513T200000
DTSTAMP:20260422T123113Z
DTSTART;TZID=Europe/Berlin:20260513T190000
GEO:52.018100;8.525970
LOCATION:Kunsthalle Bielefeld\, Artur-Ladebeck-Straße 5\, Bielefeld
SEQUENCE:0
SUMMARY:Öffentliche Führung
UID:e_101256632_iv13
URL:http://pages.destination.one/de/teutonavigator/streaming/detail/Event/e
 _101256632/ffentliche-f-hrung
END:VEVENT
BEGIN:VEVENT
CATEGORIES:Ausstellung
CATEGORIES:Brauchtum/Kultur
DESCRIPTION:\n\nmehr Informationen unter http://pages.destination.one/de/te
 utonavigator/streaming/detail/Event/e_101256632/ffentliche-f-hrung
DTEND;TZID=Europe/Berlin:20260514T123000
DTSTAMP:20260422T123113Z
DTSTART;TZID=Europe/Berlin:20260514T113000
GEO:52.018100;8.525970
LOCATION:Kunsthalle Bielefeld\, Artur-Ladebeck-Straße 5\, Bielefeld
SEQUENCE:0
SUMMARY:Öffentliche Führung
UID:e_101256632_iv14
URL:http://pages.destination.one/de/teutonavigator/streaming/detail/Event/e
 _101256632/ffentliche-f-hrung
END:VEVENT
BEGIN:VEVENT
CATEGORIES:Ausstellung
CATEGORIES:Brauchtum/Kultur
DESCRIPTION:\n\nmehr Informationen unter http://pages.destination.one/de/te
 utonavigator/streaming/detail/Event/e_101256632/ffentliche-f-hrung
DTEND;TZID=Europe/Berlin:20260514T170000
DTSTAMP:20260422T123113Z
DTSTART;TZID=Europe/Berlin:20260514T160000
GEO:52.018100;8.525970
LOCATION:Kunsthalle Bielefeld\, Artur-Ladebeck-Straße 5\, Bielefeld
SEQUENCE:0
SUMMARY:Öffentliche Führung
UID:e_101256632_iv15
URL:http://pages.destination.one/de/teutonavigator/streaming/detail/Event/e
 _101256632/ffentliche-f-hrung
END:VEVENT
BEGIN:VEVENT
CATEGORIES:Ausstellung
CATEGORIES:Brauchtum/Kultur
DESCRIPTION:\n\nmehr Informationen unter http://pages.destination.one/de/te
 utonavigator/streaming/detail/Event/e_101256632/ffentliche-f-hrung
DTEND;TZID=Europe/Berlin:20260517T123000
DTSTAMP:20260422T123113Z
DTSTART;TZID=Europe/Berlin:20260517T113000
GEO:52.018100;8.525970
LOCATION:Kunsthalle Bielefeld\, Artur-Ladebeck-Straße 5\, Bielefeld
SEQUENCE:0
SUMMARY:Öffentliche Führung
UID:e_101256632_iv16
URL:http://pages.destination.one/de/teutonavigator/streaming/detail/Event/e
 _101256632/ffentliche-f-hrung
END:VEVENT
BEGIN:VEVENT
CATEGORIES:Ausstellung
CATEGORIES:Brauchtum/Kultur
DESCRIPTION:\n\nmehr Informationen unter http://pages.destination.one/de/te
 utonavigator/streaming/detail/Event/e_101256632/ffentliche-f-hrung
DTEND;TZID=Europe/Berlin:20260517T170000
DTSTAMP:20260422T123113Z
DTSTART;TZID=Europe/Berlin:20260517T160000
GEO:52.018100;8.525970
LOCATION:Kunsthalle Bielefeld\, Artur-Ladebeck-Straße 5\, Bielefeld
SEQUENCE:0
SUMMARY:Öffentliche Führung
UID:e_101256632_iv17
URL:http://pages.destination.one/de/teutonavigator/streaming/detail/Event/e
 _101256632/ffentliche-f-hrung
END:VEVENT
BEGIN:VEVENT
CATEGORIES:Ausstellung
CATEGORIES:Brauchtum/Kultur
DESCRIPTION:\n\nmehr Informationen unter http://pages.destination.one/de/te
 utonavigator/streaming/detail/Event/e_101256632/ffentliche-f-hrung
DTEND;TZID=Europe/Berlin:20260520T200000
DTSTAMP:20260422T123113Z
DTSTART;TZID=Europe/Berlin:20260520T190000
GEO:52.018100;8.525970
LOCATION:Kunsthalle Bielefeld\, Artur-Ladebeck-Straße 5\, Bielefeld
SEQUENCE:0
SUMMARY:Öffentliche Führung
UID:e_101256632_iv18
URL:http://pages.destination.one/de/teutonavigator/streaming/detail/Event/e
 _101256632/ffentliche-f-hrung
END:VEVENT
BEGIN:VEVENT
CATEGORIES:Ausstellung
CATEGORIES:Brauchtum/Kultur
DESCRIPTION:\n\nmehr Informationen unter http://pages.destination.one/de/te
 utonavigator/streaming/detail/Event/e_101256632/ffentliche-f-hrung
DTEND;TZID=Europe/Berlin:20260524T123000
DTSTAMP:20260422T123113Z
DTSTART;TZID=Europe/Berlin:20260524T113000
GEO:52.018100;8.525970
LOCATION:Kunsthalle Bielefeld\, Artur-Ladebeck-Straße 5\, Bielefeld
SEQUENCE:0
SUMMARY:Öffentliche Führung
UID:e_101256632_iv19
URL:http://pages.destination.one/de/teutonavigator/streaming/detail/Event/e
 _101256632/ffentliche-f-hrung
END:VEVENT
BEGIN:VEVENT
CATEGORIES:Ausstellung
CATEGORIES:Brauchtum/Kultur
DESCRIPTION:\n\nmehr Informationen unter http://pages.destination.one/de/te
 utonavigator/streaming/detail/Event/e_101256632/ffentliche-f-hrung
DTEND;TZID=Europe/Berlin:20260524T170000
DTSTAMP:20260422T123113Z
DTSTART;TZID=Europe/Berlin:20260524T160000
GEO:52.018100;8.525970
LOCATION:Kunsthalle Bielefeld\, Artur-Ladebeck-Straße 5\, Bielefeld
SEQUENCE:0
SUMMARY:Öffentliche Führung
UID:e_101256632_iv20
URL:http://pages.destination.one/de/teutonavigator/streaming/detail/Event/e
 _101256632/ffentliche-f-hrung
END:VEVENT
BEGIN:VEVENT
CATEGORIES:Ausstellung
CATEGORIES:Brauchtum/Kultur
DESCRIPTION:\n\nmehr Informationen unter http://pages.destination.one/de/te
 utonavigator/streaming/detail/Event/e_101256632/ffentliche-f-hrung
DTEND;TZID=Europe/Berlin:20260525T123000
DTSTAMP:20260422T123113Z
DTSTART;TZID=Europe/Berlin:20260525T113000
GEO:52.018100;8.525970
LOCATION:Kunsthalle Bielefeld\, Artur-Ladebeck-Straße 5\, Bielefeld
SEQUENCE:0
SUMMARY:Öffentliche Führung
UID:e_101256632_iv21
URL:http://pages.destination.one/de/teutonavigator/streaming/detail/Event/e
 _101256632/ffentliche-f-hrung
END:VEVENT
BEGIN:VEVENT
CATEGORIES:Ausstellung
CATEGORIES:Brauchtum/Kultur
DESCRIPTION:\n\nmehr Informationen unter http://pages.destination.one/de/te
 utonavigator/streaming/detail/Event/e_101256632/ffentliche-f-hrung
DTEND;TZID=Europe/Berlin:20260525T170000
DTSTAMP:20260422T123113Z
DTSTART;TZID=Europe/Berlin:20260525T160000
GEO:52.018100;8.525970
LOCATION:Kunsthalle Bielefeld\, Artur-Ladebeck-Straße 5\, Bielefeld
SEQUENCE:0
SUMMARY:Öffentliche Führung
UID:e_101256632_iv22
URL:http://pages.destination.one/de/teutonavigator/streaming/detail/Event/e
 _101256632/ffentliche-f-hrung
END:VEVENT
BEGIN:VEVENT
CATEGORIES:Ausstellung
CATEGORIES:Brauchtum/Kultur
DESCRIPTION:\n\nmehr Informationen unter http://pages.destination.one/de/te
 utonavigator/streaming/detail/Event/e_101256632/ffentliche-f-hrung
DTEND;TZID=Europe/Berlin:20260527T200000
DTSTAMP:20260422T123113Z
DTSTART;TZID=Europe/Berlin:20260527T190000
GEO:52.018100;8.525970
LOCATION:Kunsthalle Bielefeld\, Artur-Ladebeck-Straße 5\, Bielefeld
SEQUENCE:0
SUMMARY:Öffentliche Führung
UID:e_101256632_iv23
URL:http://pages.destination.one/de/teutonavigator/streaming/detail/Event/e
 _101256632/ffentliche-f-hrung
END:VEVENT
BEGIN:VEVENT
CATEGORIES:Ausstellung
CATEGORIES:Brauchtum/Kultur
DESCRIPTION:\n\nmehr Informationen unter http://pages.destination.one/de/te
 utonavigator/streaming/detail/Event/e_101256632/ffentliche-f-hrung
DTEND;TZID=Europe/Berlin:20260531T123000
DTSTAMP:20260422T123113Z
DTSTART;TZID=Europe/Berlin:20260531T113000
GEO:52.018100;8.525970
LOCATION:Kunsthalle Bielefeld\, Artur-Ladebeck-Straße 5\, Bielefeld
SEQUENCE:0
SUMMARY:Öffentliche Führung
UID:e_101256632_iv24
URL:http://pages.destination.one/de/teutonavigator/streaming/detail/Event/e
 _101256632/ffentliche-f-hrung
END:VEVENT
BEGIN:VEVENT
CATEGORIES:Ausstellung
CATEGORIES:Brauchtum/Kultur
DESCRIPTION:\n\nmehr Informationen unter http://pages.destination.one/de/te
 utonavigator/streaming/detail/Event/e_101256632/ffentliche-f-hrung
DTEND;TZID=Europe/Berlin:20260531T170000
DTSTAMP:20260422T123113Z
DTSTART;TZID=Europe/Berlin:20260531T160000
GEO:52.018100;8.525970
LOCATION:Kunsthalle Bielefeld\, Artur-Ladebeck-Straße 5\, Bielefeld
SEQUENCE:0
SUMMARY:Öffentliche Führung
UID:e_101256632_iv25
URL:http://pages.destination.one/de/teutonavigator/streaming/detail/Event/e
 _101256632/ffentliche-f-hrung
END:VEVENT
BEGIN:VEVENT
CATEGORIES:Ausstellung
CATEGORIES:Brauchtum/Kultur
DESCRIPTION:\n\nmehr Informationen unter http://pages.destination.one/de/te
 utonavigator/streaming/detail/Event/e_101256632/ffentliche-f-hrung
DTEND;TZID=Europe/Berlin:20260603T200000
DTSTAMP:20260422T123113Z
DTSTART;TZID=Europe/Berlin:20260603T190000
GEO:52.018100;8.525970
LOCATION:Kunsthalle Bielefeld\, Artur-Ladebeck-Straße 5\, Bielefeld
SEQUENCE:0
SUMMARY:Öffentliche Führung
UID:e_101256632_iv26
URL:http://pages.destination.one/de/teutonavigator/streaming/detail/Event/e
 _101256632/ffentliche-f-hrung
END:VEVENT
BEGIN:VEVENT
CATEGORIES:Ausstellung
CATEGORIES:Brauchtum/Kultur
DESCRIPTION:\n\nmehr Informationen unter http://pages.destination.one/de/te
 utonavigator/streaming/detail/Event/e_101256632/ffentliche-f-hrung
DTEND;TZID=Europe/Berlin:20260604T123000
DTSTAMP:20260422T123113Z
DTSTART;TZID=Europe/Berlin:20260604T113000
GEO:52.018100;8.525970
LOCATION:Kunsthalle Bielefeld\, Artur-Ladebeck-Straße 5\, Bielefeld
SEQUENCE:0
SUMMARY:Öffentliche Führung
UID:e_101256632_iv27
URL:http://pages.destination.one/de/teutonavigator/streaming/detail/Event/e
 _101256632/ffentliche-f-hrung
END:VEVENT
BEGIN:VEVENT
CATEGORIES:Ausstellung
CATEGORIES:Brauchtum/Kultur
DESCRIPTION:\n\nmehr Informationen unter http://pages.destination.one/de/te
 utonavigator/streaming/detail/Event/e_101256632/ffentliche-f-hrung
DTEND;TZID=Europe/Berlin:20260604T170000
DTSTAMP:20260422T123113Z
DTSTART;TZID=Europe/Berlin:20260604T160000
GEO:52.018100;8.525970
LOCATION:Kunsthalle Bielefeld\, Artur-Ladebeck-Straße 5\, Bielefeld
SEQUENCE:0
SUMMARY:Öffentliche Führung
UID:e_101256632_iv28
URL:http://pages.destination.one/de/teutonavigator/streaming/detail/Event/e
 _101256632/ffentliche-f-hrung
END:VEVENT
BEGIN:VEVENT
CATEGORIES:Ausstellung
CATEGORIES:Brauchtum/Kultur
DESCRIPTION:\n\nmehr Informationen unter http://pages.destination.one/de/te
 utonavigator/streaming/detail/Event/e_101256632/ffentliche-f-hrung
DTEND;TZID=Europe/Berlin:20260607T123000
DTSTAMP:20260422T123113Z
DTSTART;TZID=Europe/Berlin:20260607T113000
GEO:52.018100;8.525970
LOCATION:Kunsthalle Bielefeld\, Artur-Ladebeck-Straße 5\, Bielefeld
SEQUENCE:0
SUMMARY:Öffentliche Führung
UID:e_101256632_iv29
URL:http://pages.destination.one/de/teutonavigator/streaming/detail/Event/e
 _101256632/ffentliche-f-hrung
END:VEVENT
BEGIN:VEVENT
CATEGORIES:Ausstellung
CATEGORIES:Brauchtum/Kultur
DESCRIPTION:\n\nmehr Informationen unter http://pages.destination.one/de/te
 utonavigator/streaming/detail/Event/e_101256632/ffentliche-f-hrung
DTEND;TZID=Europe/Berlin:20260607T170000
DTSTAMP:20260422T123113Z
DTSTART;TZID=Europe/Berlin:20260607T160000
GEO:52.018100;8.525970
LOCATION:Kunsthalle Bielefeld\, Artur-Ladebeck-Straße 5\, Bielefeld
SEQUENCE:0
SUMMARY:Öffentliche Führung
UID:e_101256632_iv30
URL:http://pages.destination.one/de/teutonavigator/streaming/detail/Event/e
 _101256632/ffentliche-f-hrung
END:VEVENT
BEGIN:VEVENT
CATEGORIES:Ausstellung
CATEGORIES:Brauchtum/Kultur
DESCRIPTION:\n\nmehr Informationen unter http://pages.destination.one/de/te
 utonavigator/streaming/detail/Event/e_101256632/ffentliche-f-hrung
DTEND;TZID=Europe/Berlin:20260610T200000
DTSTAMP:20260422T123113Z
DTSTART;TZID=Europe/Berlin:20260610T190000
GEO:52.018100;8.525970
LOCATION:Kunsthalle Bielefeld\, Artur-Ladebeck-Straße 5\, Bielefeld
SEQUENCE:0
SUMMARY:Öffentliche Führung
UID:e_101256632_iv31
URL:http://pages.destination.one/de/teutonavigator/streaming/detail/Event/e
 _101256632/ffentliche-f-hrung
END:VEVENT
BEGIN:VEVENT
CATEGORIES:Ausstellung
CATEGORIES:Brauchtum/Kultur
DESCRIPTION:\n\nmehr Informationen unter http://pages.destination.one/de/te
 utonavigator/streaming/detail/Event/e_101256632/ffentliche-f-hrung
DTEND;TZID=Europe/Berlin:20260614T123000
DTSTAMP:20260422T123113Z
DTSTART;TZID=Europe/Berlin:20260614T113000
GEO:52.018100;8.525970
LOCATION:Kunsthalle Bielefeld\, Artur-Ladebeck-Straße 5\, Bielefeld
SEQUENCE:0
SUMMARY:Öffentliche Führung
UID:e_101256632_iv32
URL:http://pages.destination.one/de/teutonavigator/streaming/detail/Event/e
 _101256632/ffentliche-f-hrung
END:VEVENT
BEGIN:VEVENT
CATEGORIES:Ausstellung
CATEGORIES:Brauchtum/Kultur
DESCRIPTION:\n\nmehr Informationen unter http://pages.destination.one/de/te
 utonavigator/streaming/detail/Event/e_101256632/ffentliche-f-hrung
DTEND;TZID=Europe/Berlin:20260614T170000
DTSTAMP:20260422T123113Z
DTSTART;TZID=Europe/Berlin:20260614T160000
GEO:52.018100;8.525970
LOCATION:Kunsthalle Bielefeld\, Artur-Ladebeck-Straße 5\, Bielefeld
SEQUENCE:0
SUMMARY:Öffentliche Führung
UID:e_101256632_iv33
URL:http://pages.destination.one/de/teutonavigator/streaming/detail/Event/e
 _101256632/ffentliche-f-hrung
END:VEVENT
BEGIN:VTIMEZONE
TZID:Europe/Berlin
X-LIC-LOCATION:Europe/Berlin
BEGIN:DAYLIGHT
DTSTART:19700329T020000
RRULE:FREQ=YEARLY;BYDAY=-1SU;BYMONTH=3
TZNAME:CEST
TZOFFSETFROM:+0100
TZOFFSETTO:+0200
END:DAYLIGHT
BEGIN:STANDARD
DTSTART:19701025T030000
RRULE:FREQ=YEARLY;BYDAY=-1SU;BYMONTH=10
TZNAME:CET
TZOFFSETFROM:+0200
TZOFFSETTO:+0100
END:STANDARD
END:VTIMEZONE
END:VCALENDAR
