BEGIN:VCALENDAR
VERSION:2.0
PRODID:-//destination.one//NONSGML destination.meta API//DE
X-WR-CALDESC:A calendar powered by destination.meta
X-WR-CALNAME:teutonavigator Kalender via destination.meta
BEGIN:VEVENT
CATEGORIES:Flohmarkt
DESCRIPTION:In den Straßen rund um den Thomashof findet wieder unser Nachba
 rschafts-Flohmarkt statt\n\nmehr Informationen unter http://pages.destinat
 ion.one/de/teutonavigator/streaming/detail/Event/e_101256628/flohmarkt-in-
 babenhausen
DTEND;TZID=Europe/Berlin:20260503T160000
DTSTAMP:20260421T190546Z
DTSTART;TZID=Europe/Berlin:20260503T110000
GEO:52.051270;8.476700
LOCATION:Bielefeld-Dornberg\, \, Bielefeld
SEQUENCE:0
SUMMARY:Flohmarkt in Babenhausen
UID:e_101256628_iv0
URL:http://pages.destination.one/de/teutonavigator/streaming/detail/Event/e
 _101256628/flohmarkt-in-babenhausen
END:VEVENT
BEGIN:VTIMEZONE
TZID:Europe/Berlin
X-LIC-LOCATION:Europe/Berlin
BEGIN:DAYLIGHT
DTSTART:19700329T020000
RRULE:FREQ=YEARLY;BYDAY=-1SU;BYMONTH=3
TZNAME:CEST
TZOFFSETFROM:+0100
TZOFFSETTO:+0200
END:DAYLIGHT
BEGIN:STANDARD
DTSTART:19701025T030000
RRULE:FREQ=YEARLY;BYDAY=-1SU;BYMONTH=10
TZNAME:CET
TZOFFSETFROM:+0200
TZOFFSETTO:+0100
END:STANDARD
END:VTIMEZONE
END:VCALENDAR
