BEGIN:VCALENDAR
VERSION:2.0
PRODID:-//destination.one//NONSGML destination.meta API//DE
X-WR-CALDESC:A calendar powered by destination.meta
X-WR-CALNAME:teutonavigator Kalender via destination.meta
BEGIN:VEVENT
CATEGORIES:Brauchtum/Kultur
CATEGORIES:Ausstellung
DESCRIPTION:Vernissage am 17.04.\, zu sehen bis 10.05\n\nmehr Informationen
  unter http://pages.destination.one/de/teutonavigator/streaming/detail/Eve
 nt/e_101256621/volker-schomeier-malerei
DTEND;TZID=Europe/Berlin:20260417T220000
DTSTAMP:20260421T191939Z
DTSTART;TZID=Europe/Berlin:20260417T180000
GEO:52.024675;8.546408
LOCATION:Ostblock - Kulturhaus Bielefeld\, Werner-Bock-Str. 34c\, Bielefeld
SEQUENCE:0
SUMMARY:Volker Schomeier - Malerei
UID:e_101256621_iv0
URL:http://pages.destination.one/de/teutonavigator/streaming/detail/Event/e
 _101256621/volker-schomeier-malerei
END:VEVENT
BEGIN:VEVENT
CATEGORIES:Brauchtum/Kultur
CATEGORIES:Ausstellung
DESCRIPTION:Vernissage am 17.04.\, zu sehen bis 10.05\n\nmehr Informationen
  unter http://pages.destination.one/de/teutonavigator/streaming/detail/Eve
 nt/e_101256621/volker-schomeier-malerei
DTEND;TZID=Europe/Berlin:20260418T170000
DTSTAMP:20260421T191939Z
DTSTART;TZID=Europe/Berlin:20260418T140000
GEO:52.024675;8.546408
LOCATION:Ostblock - Kulturhaus Bielefeld\, Werner-Bock-Str. 34c\, Bielefeld
SEQUENCE:0
SUMMARY:Volker Schomeier - Malerei
UID:e_101256621_iv1
URL:http://pages.destination.one/de/teutonavigator/streaming/detail/Event/e
 _101256621/volker-schomeier-malerei
END:VEVENT
BEGIN:VEVENT
CATEGORIES:Brauchtum/Kultur
CATEGORIES:Ausstellung
DESCRIPTION:Vernissage am 17.04.\, zu sehen bis 10.05\n\nmehr Informationen
  unter http://pages.destination.one/de/teutonavigator/streaming/detail/Eve
 nt/e_101256621/volker-schomeier-malerei
DTEND;TZID=Europe/Berlin:20260419T170000
DTSTAMP:20260421T191939Z
DTSTART;TZID=Europe/Berlin:20260419T140000
GEO:52.024675;8.546408
LOCATION:Ostblock - Kulturhaus Bielefeld\, Werner-Bock-Str. 34c\, Bielefeld
SEQUENCE:0
SUMMARY:Volker Schomeier - Malerei
UID:e_101256621_iv2
URL:http://pages.destination.one/de/teutonavigator/streaming/detail/Event/e
 _101256621/volker-schomeier-malerei
END:VEVENT
BEGIN:VEVENT
CATEGORIES:Brauchtum/Kultur
CATEGORIES:Ausstellung
DESCRIPTION:Vernissage am 17.04.\, zu sehen bis 10.05\n\nmehr Informationen
  unter http://pages.destination.one/de/teutonavigator/streaming/detail/Eve
 nt/e_101256621/volker-schomeier-malerei
DTEND;TZID=Europe/Berlin:20260425T170000
DTSTAMP:20260421T191939Z
DTSTART;TZID=Europe/Berlin:20260425T140000
GEO:52.024675;8.546408
LOCATION:Ostblock - Kulturhaus Bielefeld\, Werner-Bock-Str. 34c\, Bielefeld
SEQUENCE:0
SUMMARY:Volker Schomeier - Malerei
UID:e_101256621_iv3
URL:http://pages.destination.one/de/teutonavigator/streaming/detail/Event/e
 _101256621/volker-schomeier-malerei
END:VEVENT
BEGIN:VEVENT
CATEGORIES:Brauchtum/Kultur
CATEGORIES:Ausstellung
DESCRIPTION:Vernissage am 17.04.\, zu sehen bis 10.05\n\nmehr Informationen
  unter http://pages.destination.one/de/teutonavigator/streaming/detail/Eve
 nt/e_101256621/volker-schomeier-malerei
DTEND;TZID=Europe/Berlin:20260426T170000
DTSTAMP:20260421T191939Z
DTSTART;TZID=Europe/Berlin:20260426T140000
GEO:52.024675;8.546408
LOCATION:Ostblock - Kulturhaus Bielefeld\, Werner-Bock-Str. 34c\, Bielefeld
SEQUENCE:0
SUMMARY:Volker Schomeier - Malerei
UID:e_101256621_iv4
URL:http://pages.destination.one/de/teutonavigator/streaming/detail/Event/e
 _101256621/volker-schomeier-malerei
END:VEVENT
BEGIN:VEVENT
CATEGORIES:Brauchtum/Kultur
CATEGORIES:Ausstellung
DESCRIPTION:Vernissage am 17.04.\, zu sehen bis 10.05\n\nmehr Informationen
  unter http://pages.destination.one/de/teutonavigator/streaming/detail/Eve
 nt/e_101256621/volker-schomeier-malerei
DTEND;TZID=Europe/Berlin:20260502T170000
DTSTAMP:20260421T191939Z
DTSTART;TZID=Europe/Berlin:20260502T140000
GEO:52.024675;8.546408
LOCATION:Ostblock - Kulturhaus Bielefeld\, Werner-Bock-Str. 34c\, Bielefeld
SEQUENCE:0
SUMMARY:Volker Schomeier - Malerei
UID:e_101256621_iv5
URL:http://pages.destination.one/de/teutonavigator/streaming/detail/Event/e
 _101256621/volker-schomeier-malerei
END:VEVENT
BEGIN:VEVENT
CATEGORIES:Brauchtum/Kultur
CATEGORIES:Ausstellung
DESCRIPTION:Vernissage am 17.04.\, zu sehen bis 10.05\n\nmehr Informationen
  unter http://pages.destination.one/de/teutonavigator/streaming/detail/Eve
 nt/e_101256621/volker-schomeier-malerei
DTEND;TZID=Europe/Berlin:20260503T170000
DTSTAMP:20260421T191939Z
DTSTART;TZID=Europe/Berlin:20260503T140000
GEO:52.024675;8.546408
LOCATION:Ostblock - Kulturhaus Bielefeld\, Werner-Bock-Str. 34c\, Bielefeld
SEQUENCE:0
SUMMARY:Volker Schomeier - Malerei
UID:e_101256621_iv6
URL:http://pages.destination.one/de/teutonavigator/streaming/detail/Event/e
 _101256621/volker-schomeier-malerei
END:VEVENT
BEGIN:VEVENT
CATEGORIES:Brauchtum/Kultur
CATEGORIES:Ausstellung
DESCRIPTION:Vernissage am 17.04.\, zu sehen bis 10.05\n\nmehr Informationen
  unter http://pages.destination.one/de/teutonavigator/streaming/detail/Eve
 nt/e_101256621/volker-schomeier-malerei
DTEND;TZID=Europe/Berlin:20260509T170000
DTSTAMP:20260421T191939Z
DTSTART;TZID=Europe/Berlin:20260509T140000
GEO:52.024675;8.546408
LOCATION:Ostblock - Kulturhaus Bielefeld\, Werner-Bock-Str. 34c\, Bielefeld
SEQUENCE:0
SUMMARY:Volker Schomeier - Malerei
UID:e_101256621_iv7
URL:http://pages.destination.one/de/teutonavigator/streaming/detail/Event/e
 _101256621/volker-schomeier-malerei
END:VEVENT
BEGIN:VEVENT
CATEGORIES:Brauchtum/Kultur
CATEGORIES:Ausstellung
DESCRIPTION:Vernissage am 17.04.\, zu sehen bis 10.05\n\nmehr Informationen
  unter http://pages.destination.one/de/teutonavigator/streaming/detail/Eve
 nt/e_101256621/volker-schomeier-malerei
DTEND;TZID=Europe/Berlin:20260510T170000
DTSTAMP:20260421T191939Z
DTSTART;TZID=Europe/Berlin:20260510T140000
GEO:52.024675;8.546408
LOCATION:Ostblock - Kulturhaus Bielefeld\, Werner-Bock-Str. 34c\, Bielefeld
SEQUENCE:0
SUMMARY:Volker Schomeier - Malerei
UID:e_101256621_iv8
URL:http://pages.destination.one/de/teutonavigator/streaming/detail/Event/e
 _101256621/volker-schomeier-malerei
END:VEVENT
BEGIN:VTIMEZONE
TZID:Europe/Berlin
X-LIC-LOCATION:Europe/Berlin
BEGIN:DAYLIGHT
DTSTART:19700329T020000
RRULE:FREQ=YEARLY;BYDAY=-1SU;BYMONTH=3
TZNAME:CEST
TZOFFSETFROM:+0100
TZOFFSETTO:+0200
END:DAYLIGHT
BEGIN:STANDARD
DTSTART:19701025T030000
RRULE:FREQ=YEARLY;BYDAY=-1SU;BYMONTH=10
TZNAME:CET
TZOFFSETFROM:+0200
TZOFFSETTO:+0100
END:STANDARD
END:VTIMEZONE
END:VCALENDAR
