BEGIN:VCALENDAR
VERSION:2.0
PRODID:-//destination.one//NONSGML destination.meta API//DE
X-WR-CALDESC:A calendar powered by destination.meta
X-WR-CALNAME:teutonavigator Kalender via destination.meta
BEGIN:VEVENT
CATEGORIES:Vortrag/Lesung
DESCRIPTION:Film Screening + Q&A\n\nmehr Informationen unter http://pages.d
 estination.one/de/teutonavigator/streaming/detail/Event/e_101256610/when-t
 he-water-horse-seeks-a-new-home-2026-indonesia-film-screening
DTEND;TZID=Europe/Berlin:20260506T235900
DTSTAMP:20260422T094218Z
DTSTART;TZID=Europe/Berlin:20260506T180000
GEO:52.036500;8.495100
LOCATION:Universität Bielefeld\, Universitätsstr. 25\, Bielefeld
SEQUENCE:0
SUMMARY:When the Water Horse Seeks a New Home (2026 Indonesia) Film Screeni
 ng
UID:e_101256610_iv0
URL:http://pages.destination.one/de/teutonavigator/streaming/detail/Event/e
 _101256610/when-the-water-horse-seeks-a-new-home-2026-indonesia-film-scree
 ning
END:VEVENT
BEGIN:VTIMEZONE
TZID:Europe/Berlin
X-LIC-LOCATION:Europe/Berlin
BEGIN:DAYLIGHT
DTSTART:19700329T020000
RRULE:FREQ=YEARLY;BYDAY=-1SU;BYMONTH=3
TZNAME:CEST
TZOFFSETFROM:+0100
TZOFFSETTO:+0200
END:DAYLIGHT
BEGIN:STANDARD
DTSTART:19701025T030000
RRULE:FREQ=YEARLY;BYDAY=-1SU;BYMONTH=10
TZNAME:CET
TZOFFSETFROM:+0200
TZOFFSETTO:+0100
END:STANDARD
END:VTIMEZONE
END:VCALENDAR
