BEGIN:VCALENDAR
VERSION:2.0
PRODID:-//destination.one//NONSGML destination.meta API//DE
X-WR-CALDESC:A calendar powered by destination.meta
X-WR-CALNAME:teutonavigator Kalender via destination.meta
BEGIN:VEVENT
CATEGORIES:Sonstiges
DESCRIPTION:Neue Termine\n\nmehr Informationen unter http://pages.destinati
 on.one/de/teutonavigator/streaming/detail/Event/e_101256593/sprachcaf-im-o
 stmannturmviertel
DTEND;TZID=Europe/Berlin:20260421T123000
DTSTAMP:20260421T190424Z
DTSTART;TZID=Europe/Berlin:20260421T110000
GEO:52.029161;8.537802
LOCATION:Ostmannturm\, Hanns-Bisegger-Straße 7\, Bielefeld
SEQUENCE:0
SUMMARY:Sprachcafé im Ostmannturmviertel
UID:e_101256593_iv0
URL:http://pages.destination.one/de/teutonavigator/streaming/detail/Event/e
 _101256593/sprachcaf-im-ostmannturmviertel
END:VEVENT
BEGIN:VEVENT
CATEGORIES:Sonstiges
DESCRIPTION:Neue Termine\n\nmehr Informationen unter http://pages.destinati
 on.one/de/teutonavigator/streaming/detail/Event/e_101256593/sprachcaf-im-o
 stmannturmviertel
DTEND;TZID=Europe/Berlin:20260505T123000
DTSTAMP:20260421T190424Z
DTSTART;TZID=Europe/Berlin:20260505T110000
GEO:52.029161;8.537802
LOCATION:Ostmannturm\, Hanns-Bisegger-Straße 7\, Bielefeld
SEQUENCE:0
SUMMARY:Sprachcafé im Ostmannturmviertel
UID:e_101256593_iv1
URL:http://pages.destination.one/de/teutonavigator/streaming/detail/Event/e
 _101256593/sprachcaf-im-ostmannturmviertel
END:VEVENT
BEGIN:VEVENT
CATEGORIES:Sonstiges
DESCRIPTION:Neue Termine\n\nmehr Informationen unter http://pages.destinati
 on.one/de/teutonavigator/streaming/detail/Event/e_101256593/sprachcaf-im-o
 stmannturmviertel
DTEND;TZID=Europe/Berlin:20260519T123000
DTSTAMP:20260421T190424Z
DTSTART;TZID=Europe/Berlin:20260519T110000
GEO:52.029161;8.537802
LOCATION:Ostmannturm\, Hanns-Bisegger-Straße 7\, Bielefeld
SEQUENCE:0
SUMMARY:Sprachcafé im Ostmannturmviertel
UID:e_101256593_iv2
URL:http://pages.destination.one/de/teutonavigator/streaming/detail/Event/e
 _101256593/sprachcaf-im-ostmannturmviertel
END:VEVENT
BEGIN:VEVENT
CATEGORIES:Sonstiges
DESCRIPTION:Neue Termine\n\nmehr Informationen unter http://pages.destinati
 on.one/de/teutonavigator/streaming/detail/Event/e_101256593/sprachcaf-im-o
 stmannturmviertel
DTEND;TZID=Europe/Berlin:20260602T123000
DTSTAMP:20260421T190424Z
DTSTART;TZID=Europe/Berlin:20260602T110000
GEO:52.029161;8.537802
LOCATION:Ostmannturm\, Hanns-Bisegger-Straße 7\, Bielefeld
SEQUENCE:0
SUMMARY:Sprachcafé im Ostmannturmviertel
UID:e_101256593_iv3
URL:http://pages.destination.one/de/teutonavigator/streaming/detail/Event/e
 _101256593/sprachcaf-im-ostmannturmviertel
END:VEVENT
BEGIN:VEVENT
CATEGORIES:Sonstiges
DESCRIPTION:Neue Termine\n\nmehr Informationen unter http://pages.destinati
 on.one/de/teutonavigator/streaming/detail/Event/e_101256593/sprachcaf-im-o
 stmannturmviertel
DTEND;TZID=Europe/Berlin:20260616T123000
DTSTAMP:20260421T190424Z
DTSTART;TZID=Europe/Berlin:20260616T110000
GEO:52.029161;8.537802
LOCATION:Ostmannturm\, Hanns-Bisegger-Straße 7\, Bielefeld
SEQUENCE:0
SUMMARY:Sprachcafé im Ostmannturmviertel
UID:e_101256593_iv4
URL:http://pages.destination.one/de/teutonavigator/streaming/detail/Event/e
 _101256593/sprachcaf-im-ostmannturmviertel
END:VEVENT
BEGIN:VEVENT
CATEGORIES:Sonstiges
DESCRIPTION:Neue Termine\n\nmehr Informationen unter http://pages.destinati
 on.one/de/teutonavigator/streaming/detail/Event/e_101256593/sprachcaf-im-o
 stmannturmviertel
DTEND;TZID=Europe/Berlin:20260630T123000
DTSTAMP:20260421T190424Z
DTSTART;TZID=Europe/Berlin:20260630T110000
GEO:52.029161;8.537802
LOCATION:Ostmannturm\, Hanns-Bisegger-Straße 7\, Bielefeld
SEQUENCE:0
SUMMARY:Sprachcafé im Ostmannturmviertel
UID:e_101256593_iv5
URL:http://pages.destination.one/de/teutonavigator/streaming/detail/Event/e
 _101256593/sprachcaf-im-ostmannturmviertel
END:VEVENT
BEGIN:VTIMEZONE
TZID:Europe/Berlin
X-LIC-LOCATION:Europe/Berlin
BEGIN:DAYLIGHT
DTSTART:19700329T020000
RRULE:FREQ=YEARLY;BYDAY=-1SU;BYMONTH=3
TZNAME:CEST
TZOFFSETFROM:+0100
TZOFFSETTO:+0200
END:DAYLIGHT
BEGIN:STANDARD
DTSTART:19701025T030000
RRULE:FREQ=YEARLY;BYDAY=-1SU;BYMONTH=10
TZNAME:CET
TZOFFSETFROM:+0200
TZOFFSETTO:+0100
END:STANDARD
END:VTIMEZONE
END:VCALENDAR
