BEGIN:VCALENDAR
VERSION:2.0
PRODID:-//destination.one//NONSGML destination.meta API//DE
X-WR-CALDESC:A calendar powered by destination.meta
X-WR-CALNAME:teutonavigator Kalender via destination.meta
BEGIN:VEVENT
CATEGORIES:Brauchtum/Kultur
CATEGORIES:Ausstellung
DESCRIPTION:Werke von Christina Augel und Andreas Parnow\n\nmehr Informatio
 nen unter http://pages.destination.one/de/teutonavigator/streaming/detail/
 Event/e_101256588/ateliergalerie-sch-nf-rberei-ge-ffnet
DTEND;TZID=Europe/Berlin:20260425T190000
DTSTAMP:20260421T190422Z
DTSTART;TZID=Europe/Berlin:20260425T170000
GEO:52.024700;8.559200
LOCATION:Bielefeld-Mitte\, \, Bielefeld
SEQUENCE:0
SUMMARY:Ateliergalerie Schönfärberei geöffnet
UID:e_101256588_iv0
URL:http://pages.destination.one/de/teutonavigator/streaming/detail/Event/e
 _101256588/ateliergalerie-sch-nf-rberei-ge-ffnet
END:VEVENT
BEGIN:VTIMEZONE
TZID:Europe/Berlin
X-LIC-LOCATION:Europe/Berlin
BEGIN:DAYLIGHT
DTSTART:19700329T020000
RRULE:FREQ=YEARLY;BYDAY=-1SU;BYMONTH=3
TZNAME:CEST
TZOFFSETFROM:+0100
TZOFFSETTO:+0200
END:DAYLIGHT
BEGIN:STANDARD
DTSTART:19701025T030000
RRULE:FREQ=YEARLY;BYDAY=-1SU;BYMONTH=10
TZNAME:CET
TZOFFSETFROM:+0200
TZOFFSETTO:+0100
END:STANDARD
END:VTIMEZONE
END:VCALENDAR
