BEGIN:VCALENDAR
VERSION:2.0
PRODID:-//destination.one//NONSGML destination.meta API//DE
X-WR-CALDESC:A calendar powered by destination.meta
X-WR-CALNAME:teutonavigator Kalender via destination.meta
BEGIN:VEVENT
CATEGORIES:Sonstiges
CATEGORIES:Vortrag/Lesung
CATEGORIES:Brauchtum/Kultur
CATEGORIES:Film
DESCRIPTION:Vortrag und Diskussion mit dem Regisseur: Yair Qedar\, Berlin\n
 \nmehr Informationen unter http://pages.destination.one/de/teutonavigator/
 streaming/detail/Event/e_101256586/psychoanalyse-und-film-outsider-freud-i
 srael-deutschland-sterreich-2025
DTEND;TZID=Europe/Berlin:20260513T210000
DTSTAMP:20260423T095038Z
DTSTART;TZID=Europe/Berlin:20260513T183000
GEO:52.022125;8.544558
LOCATION:Lichtwerk\, Ravensberger Park 7\, Bielefeld
SEQUENCE:0
SUMMARY:Psychoanalyse und Film: Outsider Freud (Israel/Deutschland/Österrei
 ch 2025)
UID:e_101256586_iv0
URL:http://pages.destination.one/de/teutonavigator/streaming/detail/Event/e
 _101256586/psychoanalyse-und-film-outsider-freud-israel-deutschland-sterre
 ich-2025
END:VEVENT
BEGIN:VTIMEZONE
TZID:Europe/Berlin
X-LIC-LOCATION:Europe/Berlin
BEGIN:DAYLIGHT
DTSTART:19700329T020000
RRULE:FREQ=YEARLY;BYDAY=-1SU;BYMONTH=3
TZNAME:CEST
TZOFFSETFROM:+0100
TZOFFSETTO:+0200
END:DAYLIGHT
BEGIN:STANDARD
DTSTART:19701025T030000
RRULE:FREQ=YEARLY;BYDAY=-1SU;BYMONTH=10
TZNAME:CET
TZOFFSETFROM:+0200
TZOFFSETTO:+0100
END:STANDARD
END:VTIMEZONE
END:VCALENDAR
