BEGIN:VCALENDAR
VERSION:2.0
PRODID:-//destination.one//NONSGML destination.meta API//DE
X-WR-CALDESC:A calendar powered by destination.meta
X-WR-CALNAME:teutonavigator Kalender via destination.meta
BEGIN:VEVENT
CATEGORIES:Sonstiges
CATEGORIES:Vortrag/Lesung
CATEGORIES:Brauchtum/Kultur
DESCRIPTION:Ein Debütroman über Freiheit und Familiengeheimnisse\n\nmehr In
 formationen unter http://pages.destination.one/de/teutonavigator/streaming
 /detail/Event/e_101256584/lesung-und-buchpr-sentation-mit-jan-brauns-das-f
 ell-der-hy-ne
DTEND;TZID=Europe/Berlin:20260507T210000
DTSTAMP:20260421T190422Z
DTSTART;TZID=Europe/Berlin:20260507T190000
GEO:52.028400;8.523240
LOCATION:Bürgerwache\, Rolandstr. 16\, Bielefeld
SEQUENCE:0
SUMMARY:Lesung und Buchpräsentation mit Jan Brauns: "Das Fell der Hyäne"
UID:e_101256584_iv0
URL:http://pages.destination.one/de/teutonavigator/streaming/detail/Event/e
 _101256584/lesung-und-buchpr-sentation-mit-jan-brauns-das-fell-der-hy-ne
END:VEVENT
BEGIN:VTIMEZONE
TZID:Europe/Berlin
X-LIC-LOCATION:Europe/Berlin
BEGIN:DAYLIGHT
DTSTART:19700329T020000
RRULE:FREQ=YEARLY;BYDAY=-1SU;BYMONTH=3
TZNAME:CEST
TZOFFSETFROM:+0100
TZOFFSETTO:+0200
END:DAYLIGHT
BEGIN:STANDARD
DTSTART:19701025T030000
RRULE:FREQ=YEARLY;BYDAY=-1SU;BYMONTH=10
TZNAME:CET
TZOFFSETFROM:+0200
TZOFFSETTO:+0100
END:STANDARD
END:VTIMEZONE
END:VCALENDAR
