BEGIN:VCALENDAR
VERSION:2.0
PRODID:-//destination.one//NONSGML destination.meta API//DE
X-WR-CALDESC:A calendar powered by destination.meta
X-WR-CALNAME:teutonavigator Kalender via destination.meta
BEGIN:VEVENT
CATEGORIES:Sonstiges
CATEGORIES:Brauchtum/Kultur
CATEGORIES:Ausstellung
DESCRIPTION:Ausstellung der Künstlerin Monika Dlugosch\n\nmehr Informatione
 n unter http://pages.destination.one/de/teutonavigator/streaming/detail/Ev
 ent/e_101256583/wildtiere-in-aquarell
DTEND;TZID=Europe/Berlin:20260430T140000
DTSTAMP:20260421T094823Z
DTSTART;TZID=Europe/Berlin:20260430T100000
GEO:52.028400;8.523240
LOCATION:Bürgerwache\, Rolandstr. 16\, Bielefeld
SEQUENCE:0
SUMMARY:"Wildtiere in Aquarell"
UID:e_101256583_iv0
URL:http://pages.destination.one/de/teutonavigator/streaming/detail/Event/e
 _101256583/wildtiere-in-aquarell
END:VEVENT
BEGIN:VEVENT
CATEGORIES:Sonstiges
CATEGORIES:Brauchtum/Kultur
CATEGORIES:Ausstellung
DESCRIPTION:Ausstellung der Künstlerin Monika Dlugosch\n\nmehr Informatione
 n unter http://pages.destination.one/de/teutonavigator/streaming/detail/Ev
 ent/e_101256583/wildtiere-in-aquarell
DTEND;TZID=Europe/Berlin:20260506T140000
DTSTAMP:20260421T094823Z
DTSTART;TZID=Europe/Berlin:20260506T100000
GEO:52.028400;8.523240
LOCATION:Bürgerwache\, Rolandstr. 16\, Bielefeld
SEQUENCE:0
SUMMARY:"Wildtiere in Aquarell"
UID:e_101256583_iv1
URL:http://pages.destination.one/de/teutonavigator/streaming/detail/Event/e
 _101256583/wildtiere-in-aquarell
END:VEVENT
BEGIN:VEVENT
CATEGORIES:Sonstiges
CATEGORIES:Brauchtum/Kultur
CATEGORIES:Ausstellung
DESCRIPTION:Ausstellung der Künstlerin Monika Dlugosch\n\nmehr Informatione
 n unter http://pages.destination.one/de/teutonavigator/streaming/detail/Ev
 ent/e_101256583/wildtiere-in-aquarell
DTEND;TZID=Europe/Berlin:20260508T140000
DTSTAMP:20260421T094823Z
DTSTART;TZID=Europe/Berlin:20260508T100000
GEO:52.028400;8.523240
LOCATION:Bürgerwache\, Rolandstr. 16\, Bielefeld
SEQUENCE:0
SUMMARY:"Wildtiere in Aquarell"
UID:e_101256583_iv2
URL:http://pages.destination.one/de/teutonavigator/streaming/detail/Event/e
 _101256583/wildtiere-in-aquarell
END:VEVENT
BEGIN:VEVENT
CATEGORIES:Sonstiges
CATEGORIES:Brauchtum/Kultur
CATEGORIES:Ausstellung
DESCRIPTION:Ausstellung der Künstlerin Monika Dlugosch\n\nmehr Informatione
 n unter http://pages.destination.one/de/teutonavigator/streaming/detail/Ev
 ent/e_101256583/wildtiere-in-aquarell
DTEND;TZID=Europe/Berlin:20260513T140000
DTSTAMP:20260421T094823Z
DTSTART;TZID=Europe/Berlin:20260513T100000
GEO:52.028400;8.523240
LOCATION:Bürgerwache\, Rolandstr. 16\, Bielefeld
SEQUENCE:0
SUMMARY:"Wildtiere in Aquarell"
UID:e_101256583_iv3
URL:http://pages.destination.one/de/teutonavigator/streaming/detail/Event/e
 _101256583/wildtiere-in-aquarell
END:VEVENT
BEGIN:VEVENT
CATEGORIES:Sonstiges
CATEGORIES:Brauchtum/Kultur
CATEGORIES:Ausstellung
DESCRIPTION:Ausstellung der Künstlerin Monika Dlugosch\n\nmehr Informatione
 n unter http://pages.destination.one/de/teutonavigator/streaming/detail/Ev
 ent/e_101256583/wildtiere-in-aquarell
DTEND;TZID=Europe/Berlin:20260515T140000
DTSTAMP:20260421T094823Z
DTSTART;TZID=Europe/Berlin:20260515T100000
GEO:52.028400;8.523240
LOCATION:Bürgerwache\, Rolandstr. 16\, Bielefeld
SEQUENCE:0
SUMMARY:"Wildtiere in Aquarell"
UID:e_101256583_iv4
URL:http://pages.destination.one/de/teutonavigator/streaming/detail/Event/e
 _101256583/wildtiere-in-aquarell
END:VEVENT
BEGIN:VEVENT
CATEGORIES:Sonstiges
CATEGORIES:Brauchtum/Kultur
CATEGORIES:Ausstellung
DESCRIPTION:Ausstellung der Künstlerin Monika Dlugosch\n\nmehr Informatione
 n unter http://pages.destination.one/de/teutonavigator/streaming/detail/Ev
 ent/e_101256583/wildtiere-in-aquarell
DTEND;TZID=Europe/Berlin:20260520T140000
DTSTAMP:20260421T094823Z
DTSTART;TZID=Europe/Berlin:20260520T100000
GEO:52.028400;8.523240
LOCATION:Bürgerwache\, Rolandstr. 16\, Bielefeld
SEQUENCE:0
SUMMARY:"Wildtiere in Aquarell"
UID:e_101256583_iv5
URL:http://pages.destination.one/de/teutonavigator/streaming/detail/Event/e
 _101256583/wildtiere-in-aquarell
END:VEVENT
BEGIN:VEVENT
CATEGORIES:Sonstiges
CATEGORIES:Brauchtum/Kultur
CATEGORIES:Ausstellung
DESCRIPTION:Ausstellung der Künstlerin Monika Dlugosch\n\nmehr Informatione
 n unter http://pages.destination.one/de/teutonavigator/streaming/detail/Ev
 ent/e_101256583/wildtiere-in-aquarell
DTEND;TZID=Europe/Berlin:20260522T140000
DTSTAMP:20260421T094823Z
DTSTART;TZID=Europe/Berlin:20260522T100000
GEO:52.028400;8.523240
LOCATION:Bürgerwache\, Rolandstr. 16\, Bielefeld
SEQUENCE:0
SUMMARY:"Wildtiere in Aquarell"
UID:e_101256583_iv6
URL:http://pages.destination.one/de/teutonavigator/streaming/detail/Event/e
 _101256583/wildtiere-in-aquarell
END:VEVENT
BEGIN:VEVENT
CATEGORIES:Sonstiges
CATEGORIES:Brauchtum/Kultur
CATEGORIES:Ausstellung
DESCRIPTION:Ausstellung der Künstlerin Monika Dlugosch\n\nmehr Informatione
 n unter http://pages.destination.one/de/teutonavigator/streaming/detail/Ev
 ent/e_101256583/wildtiere-in-aquarell
DTEND;TZID=Europe/Berlin:20260527T140000
DTSTAMP:20260421T094823Z
DTSTART;TZID=Europe/Berlin:20260527T100000
GEO:52.028400;8.523240
LOCATION:Bürgerwache\, Rolandstr. 16\, Bielefeld
SEQUENCE:0
SUMMARY:"Wildtiere in Aquarell"
UID:e_101256583_iv7
URL:http://pages.destination.one/de/teutonavigator/streaming/detail/Event/e
 _101256583/wildtiere-in-aquarell
END:VEVENT
BEGIN:VEVENT
CATEGORIES:Sonstiges
CATEGORIES:Brauchtum/Kultur
CATEGORIES:Ausstellung
DESCRIPTION:Ausstellung der Künstlerin Monika Dlugosch\n\nmehr Informatione
 n unter http://pages.destination.one/de/teutonavigator/streaming/detail/Ev
 ent/e_101256583/wildtiere-in-aquarell
DTEND;TZID=Europe/Berlin:20260529T140000
DTSTAMP:20260421T094823Z
DTSTART;TZID=Europe/Berlin:20260529T100000
GEO:52.028400;8.523240
LOCATION:Bürgerwache\, Rolandstr. 16\, Bielefeld
SEQUENCE:0
SUMMARY:"Wildtiere in Aquarell"
UID:e_101256583_iv8
URL:http://pages.destination.one/de/teutonavigator/streaming/detail/Event/e
 _101256583/wildtiere-in-aquarell
END:VEVENT
BEGIN:VEVENT
CATEGORIES:Sonstiges
CATEGORIES:Brauchtum/Kultur
CATEGORIES:Ausstellung
DESCRIPTION:Ausstellung der Künstlerin Monika Dlugosch\n\nmehr Informatione
 n unter http://pages.destination.one/de/teutonavigator/streaming/detail/Ev
 ent/e_101256583/wildtiere-in-aquarell
DTEND;TZID=Europe/Berlin:20260603T140000
DTSTAMP:20260421T094823Z
DTSTART;TZID=Europe/Berlin:20260603T100000
GEO:52.028400;8.523240
LOCATION:Bürgerwache\, Rolandstr. 16\, Bielefeld
SEQUENCE:0
SUMMARY:"Wildtiere in Aquarell"
UID:e_101256583_iv9
URL:http://pages.destination.one/de/teutonavigator/streaming/detail/Event/e
 _101256583/wildtiere-in-aquarell
END:VEVENT
BEGIN:VEVENT
CATEGORIES:Sonstiges
CATEGORIES:Brauchtum/Kultur
CATEGORIES:Ausstellung
DESCRIPTION:Ausstellung der Künstlerin Monika Dlugosch\n\nmehr Informatione
 n unter http://pages.destination.one/de/teutonavigator/streaming/detail/Ev
 ent/e_101256583/wildtiere-in-aquarell
DTEND;TZID=Europe/Berlin:20260605T140000
DTSTAMP:20260421T094823Z
DTSTART;TZID=Europe/Berlin:20260605T100000
GEO:52.028400;8.523240
LOCATION:Bürgerwache\, Rolandstr. 16\, Bielefeld
SEQUENCE:0
SUMMARY:"Wildtiere in Aquarell"
UID:e_101256583_iv10
URL:http://pages.destination.one/de/teutonavigator/streaming/detail/Event/e
 _101256583/wildtiere-in-aquarell
END:VEVENT
BEGIN:VEVENT
CATEGORIES:Sonstiges
CATEGORIES:Brauchtum/Kultur
CATEGORIES:Ausstellung
DESCRIPTION:Ausstellung der Künstlerin Monika Dlugosch\n\nmehr Informatione
 n unter http://pages.destination.one/de/teutonavigator/streaming/detail/Ev
 ent/e_101256583/wildtiere-in-aquarell
DTEND;TZID=Europe/Berlin:20260610T140000
DTSTAMP:20260421T094823Z
DTSTART;TZID=Europe/Berlin:20260610T100000
GEO:52.028400;8.523240
LOCATION:Bürgerwache\, Rolandstr. 16\, Bielefeld
SEQUENCE:0
SUMMARY:"Wildtiere in Aquarell"
UID:e_101256583_iv11
URL:http://pages.destination.one/de/teutonavigator/streaming/detail/Event/e
 _101256583/wildtiere-in-aquarell
END:VEVENT
BEGIN:VEVENT
CATEGORIES:Sonstiges
CATEGORIES:Brauchtum/Kultur
CATEGORIES:Ausstellung
DESCRIPTION:Ausstellung der Künstlerin Monika Dlugosch\n\nmehr Informatione
 n unter http://pages.destination.one/de/teutonavigator/streaming/detail/Ev
 ent/e_101256583/wildtiere-in-aquarell
DTEND;TZID=Europe/Berlin:20260612T140000
DTSTAMP:20260421T094823Z
DTSTART;TZID=Europe/Berlin:20260612T100000
GEO:52.028400;8.523240
LOCATION:Bürgerwache\, Rolandstr. 16\, Bielefeld
SEQUENCE:0
SUMMARY:"Wildtiere in Aquarell"
UID:e_101256583_iv12
URL:http://pages.destination.one/de/teutonavigator/streaming/detail/Event/e
 _101256583/wildtiere-in-aquarell
END:VEVENT
BEGIN:VEVENT
CATEGORIES:Sonstiges
CATEGORIES:Brauchtum/Kultur
CATEGORIES:Ausstellung
DESCRIPTION:Ausstellung der Künstlerin Monika Dlugosch\n\nmehr Informatione
 n unter http://pages.destination.one/de/teutonavigator/streaming/detail/Ev
 ent/e_101256583/wildtiere-in-aquarell
DTEND;TZID=Europe/Berlin:20260617T140000
DTSTAMP:20260421T094823Z
DTSTART;TZID=Europe/Berlin:20260617T100000
GEO:52.028400;8.523240
LOCATION:Bürgerwache\, Rolandstr. 16\, Bielefeld
SEQUENCE:0
SUMMARY:"Wildtiere in Aquarell"
UID:e_101256583_iv13
URL:http://pages.destination.one/de/teutonavigator/streaming/detail/Event/e
 _101256583/wildtiere-in-aquarell
END:VEVENT
BEGIN:VEVENT
CATEGORIES:Sonstiges
CATEGORIES:Brauchtum/Kultur
CATEGORIES:Ausstellung
DESCRIPTION:Ausstellung der Künstlerin Monika Dlugosch\n\nmehr Informatione
 n unter http://pages.destination.one/de/teutonavigator/streaming/detail/Ev
 ent/e_101256583/wildtiere-in-aquarell
DTEND;TZID=Europe/Berlin:20260619T140000
DTSTAMP:20260421T094823Z
DTSTART;TZID=Europe/Berlin:20260619T100000
GEO:52.028400;8.523240
LOCATION:Bürgerwache\, Rolandstr. 16\, Bielefeld
SEQUENCE:0
SUMMARY:"Wildtiere in Aquarell"
UID:e_101256583_iv14
URL:http://pages.destination.one/de/teutonavigator/streaming/detail/Event/e
 _101256583/wildtiere-in-aquarell
END:VEVENT
BEGIN:VEVENT
CATEGORIES:Sonstiges
CATEGORIES:Brauchtum/Kultur
CATEGORIES:Ausstellung
DESCRIPTION:Ausstellung der Künstlerin Monika Dlugosch\n\nmehr Informatione
 n unter http://pages.destination.one/de/teutonavigator/streaming/detail/Ev
 ent/e_101256583/wildtiere-in-aquarell
DTEND;TZID=Europe/Berlin:20260624T140000
DTSTAMP:20260421T094823Z
DTSTART;TZID=Europe/Berlin:20260624T100000
GEO:52.028400;8.523240
LOCATION:Bürgerwache\, Rolandstr. 16\, Bielefeld
SEQUENCE:0
SUMMARY:"Wildtiere in Aquarell"
UID:e_101256583_iv15
URL:http://pages.destination.one/de/teutonavigator/streaming/detail/Event/e
 _101256583/wildtiere-in-aquarell
END:VEVENT
BEGIN:VEVENT
CATEGORIES:Sonstiges
CATEGORIES:Brauchtum/Kultur
CATEGORIES:Ausstellung
DESCRIPTION:Ausstellung der Künstlerin Monika Dlugosch\n\nmehr Informatione
 n unter http://pages.destination.one/de/teutonavigator/streaming/detail/Ev
 ent/e_101256583/wildtiere-in-aquarell
DTEND;TZID=Europe/Berlin:20260626T140000
DTSTAMP:20260421T094823Z
DTSTART;TZID=Europe/Berlin:20260626T100000
GEO:52.028400;8.523240
LOCATION:Bürgerwache\, Rolandstr. 16\, Bielefeld
SEQUENCE:0
SUMMARY:"Wildtiere in Aquarell"
UID:e_101256583_iv16
URL:http://pages.destination.one/de/teutonavigator/streaming/detail/Event/e
 _101256583/wildtiere-in-aquarell
END:VEVENT
BEGIN:VTIMEZONE
TZID:Europe/Berlin
X-LIC-LOCATION:Europe/Berlin
BEGIN:DAYLIGHT
DTSTART:19700329T020000
RRULE:FREQ=YEARLY;BYDAY=-1SU;BYMONTH=3
TZNAME:CEST
TZOFFSETFROM:+0100
TZOFFSETTO:+0200
END:DAYLIGHT
BEGIN:STANDARD
DTSTART:19701025T030000
RRULE:FREQ=YEARLY;BYDAY=-1SU;BYMONTH=10
TZNAME:CET
TZOFFSETFROM:+0200
TZOFFSETTO:+0100
END:STANDARD
END:VTIMEZONE
END:VCALENDAR
