BEGIN:VCALENDAR
VERSION:2.0
PRODID:-//destination.one//NONSGML destination.meta API//DE
X-WR-CALDESC:A calendar powered by destination.meta
X-WR-CALNAME:teutonavigator Kalender via destination.meta
BEGIN:VEVENT
CATEGORIES:Workshop
CATEGORIES:Sport/Freizeit
DESCRIPTION:im yogawirkt Bielefeld\n\nmehr Informationen unter http://pages
 .destination.one/de/teutonavigator/streaming/detail/Event/e_101256580/qi-g
 ong-faszien
DTEND;TZID=Europe/Berlin:20260503T130000
DTSTAMP:20260419T161145Z
DTSTART;TZID=Europe/Berlin:20260503T100000
GEO:52.022930;8.537240
LOCATION:Niedernstraße\, \, Bielefeld
SEQUENCE:0
SUMMARY:Qi Gong & Faszien
UID:e_101256580_iv0
URL:http://pages.destination.one/de/teutonavigator/streaming/detail/Event/e
 _101256580/qi-gong-faszien
END:VEVENT
BEGIN:VTIMEZONE
TZID:Europe/Berlin
X-LIC-LOCATION:Europe/Berlin
BEGIN:DAYLIGHT
DTSTART:19700329T020000
RRULE:FREQ=YEARLY;BYDAY=-1SU;BYMONTH=3
TZNAME:CEST
TZOFFSETFROM:+0100
TZOFFSETTO:+0200
END:DAYLIGHT
BEGIN:STANDARD
DTSTART:19701025T030000
RRULE:FREQ=YEARLY;BYDAY=-1SU;BYMONTH=10
TZNAME:CET
TZOFFSETFROM:+0200
TZOFFSETTO:+0100
END:STANDARD
END:VTIMEZONE
END:VCALENDAR
