BEGIN:VCALENDAR
VERSION:2.0
PRODID:-//destination.one//NONSGML destination.meta API//DE
X-WR-CALDESC:A calendar powered by destination.meta
X-WR-CALNAME:teutonavigator Kalender via destination.meta
BEGIN:VEVENT
CATEGORIES:Sonstiges
DESCRIPTION:schnell • interaktiv • digital\n\nmehr Informationen unter http
 ://pages.destination.one/de/teutonavigator/streaming/detail/Event/e_101256
 576/kneipenquiz-harms-markt-bielefeld-ready-to-buzz
DTEND;TZID=Europe/Berlin:20260528T220000
DTSTAMP:20260421T190422Z
DTSTART;TZID=Europe/Berlin:20260528T173000
GEO:52.021621;8.529485
LOCATION:Harms Markt\, Ritterstraße 8\, Bielefeld
SEQUENCE:0
SUMMARY:Kneipenquiz Harms Markt Bielefeld "Ready To Buzz"
UID:e_101256576_iv0
URL:http://pages.destination.one/de/teutonavigator/streaming/detail/Event/e
 _101256576/kneipenquiz-harms-markt-bielefeld-ready-to-buzz
END:VEVENT
BEGIN:VTIMEZONE
TZID:Europe/Berlin
X-LIC-LOCATION:Europe/Berlin
BEGIN:DAYLIGHT
DTSTART:19700329T020000
RRULE:FREQ=YEARLY;BYDAY=-1SU;BYMONTH=3
TZNAME:CEST
TZOFFSETFROM:+0100
TZOFFSETTO:+0200
END:DAYLIGHT
BEGIN:STANDARD
DTSTART:19701025T030000
RRULE:FREQ=YEARLY;BYDAY=-1SU;BYMONTH=10
TZNAME:CET
TZOFFSETFROM:+0200
TZOFFSETTO:+0100
END:STANDARD
END:VTIMEZONE
END:VCALENDAR
