BEGIN:VCALENDAR
VERSION:2.0
PRODID:-//destination.one//NONSGML destination.meta API//DE
X-WR-CALDESC:A calendar powered by destination.meta
X-WR-CALNAME:teutonavigator Kalender via destination.meta
BEGIN:VEVENT
CATEGORIES:Kinderprogramm
CATEGORIES:Flohmarkt
DESCRIPTION:Im Gemeindehaus der Andreaskirche\n\nmehr Informationen unter h
 ttp://pages.destination.one/de/teutonavigator/streaming/detail/Event/e_101
 256573/kinderflohmarkt-der-ev-kita-babenhausen
DTEND;TZID=Europe/Berlin:20260509T130000
DTSTAMP:20260419T161525Z
DTSTART;TZID=Europe/Berlin:20260509T100000
GEO:52.051270;8.476700
LOCATION:Bielefeld-Dornberg\, \, Bielefeld
SEQUENCE:0
SUMMARY:Kinderflohmarkt der ev. Kita Babenhausen
UID:e_101256573_iv0
URL:http://pages.destination.one/de/teutonavigator/streaming/detail/Event/e
 _101256573/kinderflohmarkt-der-ev-kita-babenhausen
END:VEVENT
BEGIN:VTIMEZONE
TZID:Europe/Berlin
X-LIC-LOCATION:Europe/Berlin
BEGIN:DAYLIGHT
DTSTART:19700329T020000
RRULE:FREQ=YEARLY;BYDAY=-1SU;BYMONTH=3
TZNAME:CEST
TZOFFSETFROM:+0100
TZOFFSETTO:+0200
END:DAYLIGHT
BEGIN:STANDARD
DTSTART:19701025T030000
RRULE:FREQ=YEARLY;BYDAY=-1SU;BYMONTH=10
TZNAME:CET
TZOFFSETFROM:+0200
TZOFFSETTO:+0100
END:STANDARD
END:VTIMEZONE
END:VCALENDAR
