BEGIN:VCALENDAR
VERSION:2.0
PRODID:-//destination.one//NONSGML destination.meta API//DE
X-WR-CALDESC:A calendar powered by destination.meta
X-WR-CALNAME:teutonavigator Kalender via destination.meta
BEGIN:VEVENT
CATEGORIES:Sonstiges
CATEGORIES:Brauchtum/Kultur
DESCRIPTION:Kyungwon Shin und Ella Bergmann-Michel\n\nmehr Informationen un
 ter http://pages.destination.one/de/teutonavigator/streaming/detail/Event/
 e_101256565/ein-seh-bar-sichtbares-k-nstlerinnenarchiv-bi-owl
DTEND;TZID=Europe/Berlin:20260618T190000
DTSTAMP:20260419T202821Z
DTSTART;TZID=Europe/Berlin:20260618T170000
GEO:52.026700;8.536930
LOCATION:Stadtbibliothek\, Neumarkt 1\, Bielefeld
SEQUENCE:0
SUMMARY:Ein-seh-bar: Sichtbares Künstlerinnenarchiv bi-owl
UID:e_101256565_iv0
URL:http://pages.destination.one/de/teutonavigator/streaming/detail/Event/e
 _101256565/ein-seh-bar-sichtbares-k-nstlerinnenarchiv-bi-owl
END:VEVENT
BEGIN:VTIMEZONE
TZID:Europe/Berlin
X-LIC-LOCATION:Europe/Berlin
BEGIN:DAYLIGHT
DTSTART:19700329T020000
RRULE:FREQ=YEARLY;BYDAY=-1SU;BYMONTH=3
TZNAME:CEST
TZOFFSETFROM:+0100
TZOFFSETTO:+0200
END:DAYLIGHT
BEGIN:STANDARD
DTSTART:19701025T030000
RRULE:FREQ=YEARLY;BYDAY=-1SU;BYMONTH=10
TZNAME:CET
TZOFFSETFROM:+0200
TZOFFSETTO:+0100
END:STANDARD
END:VTIMEZONE
END:VCALENDAR
