BEGIN:VCALENDAR
VERSION:2.0
PRODID:-//destination.one//NONSGML destination.meta API//DE
X-WR-CALDESC:A calendar powered by destination.meta
X-WR-CALNAME:teutonavigator Kalender via destination.meta
BEGIN:VEVENT
CATEGORIES:Konzert divers
CATEGORIES:Brauchtum/Kultur
DESCRIPTION:Interkulturelles Konzertprogramm\n\nmehr Informationen unter ht
 tp://pages.destination.one/de/teutonavigator/streaming/detail/Event/e_1012
 56556/friedenskonzert
DTEND;TZID=Europe/Berlin:20260419T190000
DTSTAMP:20260422T151849Z
DTSTART;TZID=Europe/Berlin:20260419T170000
GEO:52.008751;8.543183
LOCATION:Synagoge (Jüdische Kultusgemeinde Beit Tikwa)\, Detmolder Str. 107
 \, Bielefeld
SEQUENCE:0
SUMMARY:Friedenskonzert
UID:e_101256556_iv0
URL:http://pages.destination.one/de/teutonavigator/streaming/detail/Event/e
 _101256556/friedenskonzert
END:VEVENT
BEGIN:VTIMEZONE
TZID:Europe/Berlin
X-LIC-LOCATION:Europe/Berlin
BEGIN:DAYLIGHT
DTSTART:19700329T020000
RRULE:FREQ=YEARLY;BYDAY=-1SU;BYMONTH=3
TZNAME:CEST
TZOFFSETFROM:+0100
TZOFFSETTO:+0200
END:DAYLIGHT
BEGIN:STANDARD
DTSTART:19701025T030000
RRULE:FREQ=YEARLY;BYDAY=-1SU;BYMONTH=10
TZNAME:CET
TZOFFSETFROM:+0200
TZOFFSETTO:+0100
END:STANDARD
END:VTIMEZONE
END:VCALENDAR
