BEGIN:VCALENDAR
VERSION:2.0
PRODID:-//destination.one//NONSGML destination.meta API//DE
X-WR-CALDESC:A calendar powered by destination.meta
X-WR-CALNAME:teutonavigator Kalender via destination.meta
BEGIN:VEVENT
CATEGORIES:Konzert divers
CATEGORIES:Brauchtum/Kultur
DESCRIPTION:Kammermusik Haus Wellensiek\n\nmehr Informationen unter http://
 pages.destination.one/de/teutonavigator/streaming/detail/Event/e_101256553
 /mozart-schubert-beethoven
DTEND;TZID=Europe/Berlin:20260419T193000
DTSTAMP:20260421T181144Z
DTSTART;TZID=Europe/Berlin:20260419T180000
GEO:52.038156;8.485670
LOCATION:Haus Wellensiek\, Wellensiek 108a\, Bielefeld
SEQUENCE:0
SUMMARY:Mozart Schubert Beethoven
UID:e_101256553_iv0
URL:http://pages.destination.one/de/teutonavigator/streaming/detail/Event/e
 _101256553/mozart-schubert-beethoven
END:VEVENT
BEGIN:VTIMEZONE
TZID:Europe/Berlin
X-LIC-LOCATION:Europe/Berlin
BEGIN:DAYLIGHT
DTSTART:19700329T020000
RRULE:FREQ=YEARLY;BYDAY=-1SU;BYMONTH=3
TZNAME:CEST
TZOFFSETFROM:+0100
TZOFFSETTO:+0200
END:DAYLIGHT
BEGIN:STANDARD
DTSTART:19701025T030000
RRULE:FREQ=YEARLY;BYDAY=-1SU;BYMONTH=10
TZNAME:CET
TZOFFSETFROM:+0200
TZOFFSETTO:+0100
END:STANDARD
END:VTIMEZONE
END:VCALENDAR
