BEGIN:VCALENDAR
VERSION:2.0
PRODID:-//destination.one//NONSGML destination.meta API//DE
X-WR-CALDESC:A calendar powered by destination.meta
X-WR-CALNAME:teutonavigator Kalender via destination.meta
BEGIN:VEVENT
CATEGORIES:Konzert divers
CATEGORIES:Brauchtum/Kultur
DESCRIPTION:Mit Rock und Funk die Kirschblüte (und das Leben) feiern!\n\nme
 hr Informationen unter http://pages.destination.one/de/teutonavigator/stre
 aming/detail/Event/e_101256549/umsonst-und-drau-en-die-downtown-flyers-spi
 elen-im-quartier
DTEND;TZID=Europe/Berlin:20260418T214500
DTSTAMP:20260419T115514Z
DTSTART;TZID=Europe/Berlin:20260418T194500
GEO:52.024700;8.559200
LOCATION:Bielefeld-Mitte\, \, Bielefeld
PRIORITY:4
SEQUENCE:0
SUMMARY:Umsonst und draußen! Die Downtown Flyers spielen im Quartier!
UID:e_101256549_iv0
URL:http://pages.destination.one/de/teutonavigator/streaming/detail/Event/e
 _101256549/umsonst-und-drau-en-die-downtown-flyers-spielen-im-quartier
END:VEVENT
BEGIN:VTIMEZONE
TZID:Europe/Berlin
X-LIC-LOCATION:Europe/Berlin
BEGIN:DAYLIGHT
DTSTART:19700329T020000
RRULE:FREQ=YEARLY;BYDAY=-1SU;BYMONTH=3
TZNAME:CEST
TZOFFSETFROM:+0100
TZOFFSETTO:+0200
END:DAYLIGHT
BEGIN:STANDARD
DTSTART:19701025T030000
RRULE:FREQ=YEARLY;BYDAY=-1SU;BYMONTH=10
TZNAME:CET
TZOFFSETFROM:+0200
TZOFFSETTO:+0100
END:STANDARD
END:VTIMEZONE
END:VCALENDAR
