BEGIN:VCALENDAR
VERSION:2.0
PRODID:-//destination.one//NONSGML destination.meta API//DE
X-WR-CALDESC:A calendar powered by destination.meta
X-WR-CALNAME:teutonavigator Kalender via destination.meta
BEGIN:VEVENT
CATEGORIES:Stadtfest/Kirmes/Jahrmarkt
CATEGORIES:Kinderprogramm
CATEGORIES:Flohmarkt
DESCRIPTION:Ev. Kirche Milse · Gemeindeweg 8 · 33729 Bielefeld\n\nmehr Info
 rmationen unter http://pages.destination.one/de/teutonavigator/streaming/d
 etail/Event/e_101256541/kinder-flohmarkt-fest-milse
DTEND;TZID=Europe/Berlin:20260530T170000
DTSTAMP:20260421T164026Z
DTSTART;TZID=Europe/Berlin:20260530T140000
GEO:52.043160;8.615030
LOCATION:Bielefeld-Heepen\, \, Bielefeld
SEQUENCE:0
SUMMARY:Kinder-Flohmarkt-Fest Milse
UID:e_101256541_iv0
URL:http://pages.destination.one/de/teutonavigator/streaming/detail/Event/e
 _101256541/kinder-flohmarkt-fest-milse
END:VEVENT
BEGIN:VTIMEZONE
TZID:Europe/Berlin
X-LIC-LOCATION:Europe/Berlin
BEGIN:DAYLIGHT
DTSTART:19700329T020000
RRULE:FREQ=YEARLY;BYDAY=-1SU;BYMONTH=3
TZNAME:CEST
TZOFFSETFROM:+0100
TZOFFSETTO:+0200
END:DAYLIGHT
BEGIN:STANDARD
DTSTART:19701025T030000
RRULE:FREQ=YEARLY;BYDAY=-1SU;BYMONTH=10
TZNAME:CET
TZOFFSETFROM:+0200
TZOFFSETTO:+0100
END:STANDARD
END:VTIMEZONE
END:VCALENDAR
