BEGIN:VCALENDAR
VERSION:2.0
PRODID:-//destination.one//NONSGML destination.meta API//DE
X-WR-CALDESC:A calendar powered by destination.meta
X-WR-CALNAME:teutonavigator Kalender via destination.meta
BEGIN:VEVENT
CATEGORIES:Workshop
CATEGORIES:Sonstiges
CATEGORIES:Konzert divers
CATEGORIES:Brauchtum/Kultur
DESCRIPTION:MantraMagie & More Mitsingkonzert\n\nmehr Informationen unter h
 ttp://pages.destination.one/de/teutonavigator/streaming/detail/Event/e_101
 256522/singen-und-lauschen-von-mantras-und-anderen-liedern
DTEND;TZID=Europe/Berlin:20260417T200000
DTSTAMP:20260421T125304Z
DTSTART;TZID=Europe/Berlin:20260417T183000
GEO:52.024700;8.559200
LOCATION:Bielefeld-Mitte\, \, Bielefeld
SEQUENCE:0
SUMMARY:Singen und Lauschen von Mantras und anderen Liedern
UID:e_101256522_iv0
URL:http://pages.destination.one/de/teutonavigator/streaming/detail/Event/e
 _101256522/singen-und-lauschen-von-mantras-und-anderen-liedern
END:VEVENT
BEGIN:VTIMEZONE
TZID:Europe/Berlin
X-LIC-LOCATION:Europe/Berlin
BEGIN:DAYLIGHT
DTSTART:19700329T020000
RRULE:FREQ=YEARLY;BYDAY=-1SU;BYMONTH=3
TZNAME:CEST
TZOFFSETFROM:+0100
TZOFFSETTO:+0200
END:DAYLIGHT
BEGIN:STANDARD
DTSTART:19701025T030000
RRULE:FREQ=YEARLY;BYDAY=-1SU;BYMONTH=10
TZNAME:CET
TZOFFSETFROM:+0200
TZOFFSETTO:+0100
END:STANDARD
END:VTIMEZONE
END:VCALENDAR
