BEGIN:VCALENDAR
VERSION:2.0
PRODID:-//destination.one//NONSGML destination.meta API//DE
X-WR-CALDESC:A calendar powered by destination.meta
X-WR-CALNAME:teutonavigator Kalender via destination.meta
BEGIN:VEVENT
CATEGORIES:Brauchtum/Kultur
CATEGORIES:Ausstellung
DESCRIPTION:Gruppenausstellung mit Fotografie\, Kunst und Wissenschaft | Ku
 ratiert von Katharina Bosse\n\nmehr Informationen unter http://pages.desti
 nation.one/de/teutonavigator/streaming/detail/Event/e_101256521/thingst-tt
 en-kunst-und-wissenschaftsprojekt-zu-den-freilichtb-hnen-des-nationalsozia
 lismus
DTEND;TZID=Europe/Berlin:20260423T180000
DTSTAMP:20260425T140237Z
DTSTART;TZID=Europe/Berlin:20260423T150000
GEO:52.024220;8.528652
LOCATION:Kunstraum Elsa\, Elsa-Brändström-Straße 13\, Bielefeld
SEQUENCE:0
SUMMARY:Thingstätten - Kunst und Wissenschaftsprojekt zu den Freilichtbühne
 n des Nationalsozialismus
UID:e_101256521_iv0
URL:http://pages.destination.one/de/teutonavigator/streaming/detail/Event/e
 _101256521/thingst-tten-kunst-und-wissenschaftsprojekt-zu-den-freilichtb-h
 nen-des-nationalsozialismus
END:VEVENT
BEGIN:VEVENT
CATEGORIES:Brauchtum/Kultur
CATEGORIES:Ausstellung
DESCRIPTION:Gruppenausstellung mit Fotografie\, Kunst und Wissenschaft | Ku
 ratiert von Katharina Bosse\n\nmehr Informationen unter http://pages.desti
 nation.one/de/teutonavigator/streaming/detail/Event/e_101256521/thingst-tt
 en-kunst-und-wissenschaftsprojekt-zu-den-freilichtb-hnen-des-nationalsozia
 lismus
DTEND;TZID=Europe/Berlin:20260430T180000
DTSTAMP:20260425T140237Z
DTSTART;TZID=Europe/Berlin:20260430T150000
GEO:52.024220;8.528652
LOCATION:Kunstraum Elsa\, Elsa-Brändström-Straße 13\, Bielefeld
SEQUENCE:0
SUMMARY:Thingstätten - Kunst und Wissenschaftsprojekt zu den Freilichtbühne
 n des Nationalsozialismus
UID:e_101256521_iv1
URL:http://pages.destination.one/de/teutonavigator/streaming/detail/Event/e
 _101256521/thingst-tten-kunst-und-wissenschaftsprojekt-zu-den-freilichtb-h
 nen-des-nationalsozialismus
END:VEVENT
BEGIN:VEVENT
CATEGORIES:Brauchtum/Kultur
CATEGORIES:Ausstellung
DESCRIPTION:Gruppenausstellung mit Fotografie\, Kunst und Wissenschaft | Ku
 ratiert von Katharina Bosse\n\nmehr Informationen unter http://pages.desti
 nation.one/de/teutonavigator/streaming/detail/Event/e_101256521/thingst-tt
 en-kunst-und-wissenschaftsprojekt-zu-den-freilichtb-hnen-des-nationalsozia
 lismus
DTEND;TZID=Europe/Berlin:20260507T180000
DTSTAMP:20260425T140237Z
DTSTART;TZID=Europe/Berlin:20260507T150000
GEO:52.024220;8.528652
LOCATION:Kunstraum Elsa\, Elsa-Brändström-Straße 13\, Bielefeld
SEQUENCE:0
SUMMARY:Thingstätten - Kunst und Wissenschaftsprojekt zu den Freilichtbühne
 n des Nationalsozialismus
UID:e_101256521_iv2
URL:http://pages.destination.one/de/teutonavigator/streaming/detail/Event/e
 _101256521/thingst-tten-kunst-und-wissenschaftsprojekt-zu-den-freilichtb-h
 nen-des-nationalsozialismus
END:VEVENT
BEGIN:VEVENT
CATEGORIES:Brauchtum/Kultur
CATEGORIES:Ausstellung
DESCRIPTION:Gruppenausstellung mit Fotografie\, Kunst und Wissenschaft | Ku
 ratiert von Katharina Bosse\n\nmehr Informationen unter http://pages.desti
 nation.one/de/teutonavigator/streaming/detail/Event/e_101256521/thingst-tt
 en-kunst-und-wissenschaftsprojekt-zu-den-freilichtb-hnen-des-nationalsozia
 lismus
DTEND;TZID=Europe/Berlin:20260514T180000
DTSTAMP:20260425T140237Z
DTSTART;TZID=Europe/Berlin:20260514T150000
GEO:52.024220;8.528652
LOCATION:Kunstraum Elsa\, Elsa-Brändström-Straße 13\, Bielefeld
SEQUENCE:0
SUMMARY:Thingstätten - Kunst und Wissenschaftsprojekt zu den Freilichtbühne
 n des Nationalsozialismus
UID:e_101256521_iv3
URL:http://pages.destination.one/de/teutonavigator/streaming/detail/Event/e
 _101256521/thingst-tten-kunst-und-wissenschaftsprojekt-zu-den-freilichtb-h
 nen-des-nationalsozialismus
END:VEVENT
BEGIN:VEVENT
CATEGORIES:Brauchtum/Kultur
CATEGORIES:Ausstellung
DESCRIPTION:Gruppenausstellung mit Fotografie\, Kunst und Wissenschaft | Ku
 ratiert von Katharina Bosse\n\nmehr Informationen unter http://pages.desti
 nation.one/de/teutonavigator/streaming/detail/Event/e_101256521/thingst-tt
 en-kunst-und-wissenschaftsprojekt-zu-den-freilichtb-hnen-des-nationalsozia
 lismus
DTEND;TZID=Europe/Berlin:20260521T180000
DTSTAMP:20260425T140237Z
DTSTART;TZID=Europe/Berlin:20260521T150000
GEO:52.024220;8.528652
LOCATION:Kunstraum Elsa\, Elsa-Brändström-Straße 13\, Bielefeld
SEQUENCE:0
SUMMARY:Thingstätten - Kunst und Wissenschaftsprojekt zu den Freilichtbühne
 n des Nationalsozialismus
UID:e_101256521_iv4
URL:http://pages.destination.one/de/teutonavigator/streaming/detail/Event/e
 _101256521/thingst-tten-kunst-und-wissenschaftsprojekt-zu-den-freilichtb-h
 nen-des-nationalsozialismus
END:VEVENT
BEGIN:VEVENT
CATEGORIES:Brauchtum/Kultur
CATEGORIES:Ausstellung
DESCRIPTION:Gruppenausstellung mit Fotografie\, Kunst und Wissenschaft | Ku
 ratiert von Katharina Bosse\n\nmehr Informationen unter http://pages.desti
 nation.one/de/teutonavigator/streaming/detail/Event/e_101256521/thingst-tt
 en-kunst-und-wissenschaftsprojekt-zu-den-freilichtb-hnen-des-nationalsozia
 lismus
DTEND;TZID=Europe/Berlin:20260528T180000
DTSTAMP:20260425T140237Z
DTSTART;TZID=Europe/Berlin:20260528T150000
GEO:52.024220;8.528652
LOCATION:Kunstraum Elsa\, Elsa-Brändström-Straße 13\, Bielefeld
SEQUENCE:0
SUMMARY:Thingstätten - Kunst und Wissenschaftsprojekt zu den Freilichtbühne
 n des Nationalsozialismus
UID:e_101256521_iv5
URL:http://pages.destination.one/de/teutonavigator/streaming/detail/Event/e
 _101256521/thingst-tten-kunst-und-wissenschaftsprojekt-zu-den-freilichtb-h
 nen-des-nationalsozialismus
END:VEVENT
BEGIN:VTIMEZONE
TZID:Europe/Berlin
X-LIC-LOCATION:Europe/Berlin
BEGIN:DAYLIGHT
DTSTART:19700329T020000
RRULE:FREQ=YEARLY;BYDAY=-1SU;BYMONTH=3
TZNAME:CEST
TZOFFSETFROM:+0100
TZOFFSETTO:+0200
END:DAYLIGHT
BEGIN:STANDARD
DTSTART:19701025T030000
RRULE:FREQ=YEARLY;BYDAY=-1SU;BYMONTH=10
TZNAME:CET
TZOFFSETFROM:+0200
TZOFFSETTO:+0100
END:STANDARD
END:VTIMEZONE
END:VCALENDAR
