BEGIN:VCALENDAR
VERSION:2.0
PRODID:-//destination.one//NONSGML destination.meta API//DE
X-WR-CALDESC:A calendar powered by destination.meta
X-WR-CALNAME:teutonavigator Kalender via destination.meta
BEGIN:VEVENT
CATEGORIES:Konzert divers
CATEGORIES:Brauchtum/Kultur
DESCRIPTION:The Last Rose of Summer - ein europäischer Liederabend\n\nmehr 
 Informationen unter http://pages.destination.one/de/teutonavigator/streami
 ng/detail/Event/e_101256519/klang-und-poesie-liederabend
DTEND;TZID=Europe/Berlin:20260508T220000
DTSTAMP:20260421T192332Z
DTSTART;TZID=Europe/Berlin:20260508T200000
GEO:52.014186;8.544051
LOCATION:Capella Hospitalis\, Teutoburger Straße 50\, Bielefeld
SEQUENCE:0
SUMMARY:Klang und Poesie Liederabend
UID:e_101256519_iv0
URL:http://pages.destination.one/de/teutonavigator/streaming/detail/Event/e
 _101256519/klang-und-poesie-liederabend
END:VEVENT
BEGIN:VTIMEZONE
TZID:Europe/Berlin
X-LIC-LOCATION:Europe/Berlin
BEGIN:DAYLIGHT
DTSTART:19700329T020000
RRULE:FREQ=YEARLY;BYDAY=-1SU;BYMONTH=3
TZNAME:CEST
TZOFFSETFROM:+0100
TZOFFSETTO:+0200
END:DAYLIGHT
BEGIN:STANDARD
DTSTART:19701025T030000
RRULE:FREQ=YEARLY;BYDAY=-1SU;BYMONTH=10
TZNAME:CET
TZOFFSETFROM:+0200
TZOFFSETTO:+0100
END:STANDARD
END:VTIMEZONE
END:VCALENDAR
