BEGIN:VCALENDAR
VERSION:2.0
PRODID:-//destination.one//NONSGML destination.meta API//DE
X-WR-CALDESC:A calendar powered by destination.meta
X-WR-CALNAME:teutonavigator Kalender via destination.meta
BEGIN:VEVENT
CATEGORIES:Sonstiges
DESCRIPTION:bei den Bestatterinnen Noller & Ziebell\n\nmehr Informationen u
 nter http://pages.destination.one/de/teutonavigator/streaming/detail/Event
 /e_101256518/trauerkreis-bei-den-bestatterinnen-noller-ziebell
DTEND;TZID=Europe/Berlin:20260505T173000
DTSTAMP:20260422T093820Z
DTSTART;TZID=Europe/Berlin:20260505T160000
GEO:52.024700;8.559200
LOCATION:Bielefeld-Mitte\, \, Bielefeld
SEQUENCE:0
SUMMARY:Trauerkreis bei den Bestatterinnen Noller & Ziebell
UID:e_101256518_iv0
URL:http://pages.destination.one/de/teutonavigator/streaming/detail/Event/e
 _101256518/trauerkreis-bei-den-bestatterinnen-noller-ziebell
END:VEVENT
BEGIN:VEVENT
CATEGORIES:Sonstiges
DESCRIPTION:bei den Bestatterinnen Noller & Ziebell\n\nmehr Informationen u
 nter http://pages.destination.one/de/teutonavigator/streaming/detail/Event
 /e_101256518/trauerkreis-bei-den-bestatterinnen-noller-ziebell
DTEND;TZID=Europe/Berlin:20260602T173000
DTSTAMP:20260422T093820Z
DTSTART;TZID=Europe/Berlin:20260602T160000
GEO:52.024700;8.559200
LOCATION:Bielefeld-Mitte\, \, Bielefeld
SEQUENCE:0
SUMMARY:Trauerkreis bei den Bestatterinnen Noller & Ziebell
UID:e_101256518_iv1
URL:http://pages.destination.one/de/teutonavigator/streaming/detail/Event/e
 _101256518/trauerkreis-bei-den-bestatterinnen-noller-ziebell
END:VEVENT
BEGIN:VEVENT
CATEGORIES:Sonstiges
DESCRIPTION:bei den Bestatterinnen Noller & Ziebell\n\nmehr Informationen u
 nter http://pages.destination.one/de/teutonavigator/streaming/detail/Event
 /e_101256518/trauerkreis-bei-den-bestatterinnen-noller-ziebell
DTEND;TZID=Europe/Berlin:20260707T173000
DTSTAMP:20260422T093820Z
DTSTART;TZID=Europe/Berlin:20260707T160000
GEO:52.024700;8.559200
LOCATION:Bielefeld-Mitte\, \, Bielefeld
SEQUENCE:0
SUMMARY:Trauerkreis bei den Bestatterinnen Noller & Ziebell
UID:e_101256518_iv2
URL:http://pages.destination.one/de/teutonavigator/streaming/detail/Event/e
 _101256518/trauerkreis-bei-den-bestatterinnen-noller-ziebell
END:VEVENT
BEGIN:VTIMEZONE
TZID:Europe/Berlin
X-LIC-LOCATION:Europe/Berlin
BEGIN:DAYLIGHT
DTSTART:19700329T020000
RRULE:FREQ=YEARLY;BYDAY=-1SU;BYMONTH=3
TZNAME:CEST
TZOFFSETFROM:+0100
TZOFFSETTO:+0200
END:DAYLIGHT
BEGIN:STANDARD
DTSTART:19701025T030000
RRULE:FREQ=YEARLY;BYDAY=-1SU;BYMONTH=10
TZNAME:CET
TZOFFSETFROM:+0200
TZOFFSETTO:+0100
END:STANDARD
END:VTIMEZONE
END:VCALENDAR
