BEGIN:VCALENDAR
VERSION:2.0
PRODID:-//destination.one//NONSGML destination.meta API//DE
X-WR-CALDESC:A calendar powered by destination.meta
X-WR-CALNAME:teutonavigator Kalender via destination.meta
BEGIN:VEVENT
CATEGORIES:Bühne divers
CATEGORIES:Sonstiges
CATEGORIES:Vortrag/Lesung
CATEGORIES:Brauchtum/Kultur
DESCRIPTION:szenische Lesung mit Insa Stuckenbröker & Christian Knäpper\n\n
 mehr Informationen unter http://pages.destination.one/de/teutonavigator/st
 reaming/detail/Event/e_101256512/briefwechsel-ingeborg-bachmann-und-heinri
 ch-b-ll-literarischer-gr-ner-salon
DTEND;TZID=Europe/Berlin:20260710T213000
DTSTAMP:20260419T223331Z
DTSTART;TZID=Europe/Berlin:20260710T193000
GEO:52.026700;8.536930
LOCATION:Stadtbibliothek\, Neumarkt 1\, Bielefeld
PRIORITY:4
SEQUENCE:0
SUMMARY:Briefwechsel Ingeborg Bachmann und Heinrich Böll - Literarischer Gr
 üner Salon
UID:e_101256512_iv0
URL:http://pages.destination.one/de/teutonavigator/streaming/detail/Event/e
 _101256512/briefwechsel-ingeborg-bachmann-und-heinrich-b-ll-literarischer-
 gr-ner-salon
END:VEVENT
BEGIN:VTIMEZONE
TZID:Europe/Berlin
X-LIC-LOCATION:Europe/Berlin
BEGIN:DAYLIGHT
DTSTART:19700329T020000
RRULE:FREQ=YEARLY;BYDAY=-1SU;BYMONTH=3
TZNAME:CEST
TZOFFSETFROM:+0100
TZOFFSETTO:+0200
END:DAYLIGHT
BEGIN:STANDARD
DTSTART:19701025T030000
RRULE:FREQ=YEARLY;BYDAY=-1SU;BYMONTH=10
TZNAME:CET
TZOFFSETFROM:+0200
TZOFFSETTO:+0100
END:STANDARD
END:VTIMEZONE
END:VCALENDAR
