BEGIN:VCALENDAR
VERSION:2.0
PRODID:-//destination.one//NONSGML destination.meta API//DE
X-WR-CALDESC:A calendar powered by destination.meta
X-WR-CALNAME:teutonavigator Kalender via destination.meta
BEGIN:VEVENT
CATEGORIES:Workshop
CATEGORIES:Sport/Freizeit
CATEGORIES:Kinderprogramm
DESCRIPTION:Für Kinder ab 10 Jahren und evtl. (Groß-)Eltern\n\nmehr Informa
 tionen unter http://pages.destination.one/de/teutonavigator/streaming/deta
 il/Event/e_101256492/ein-schmetterling-der-flattern-kann-selbstgebaut
DTEND;TZID=Europe/Berlin:20260710T180000
DTSTAMP:20260419T202655Z
DTSTART;TZID=Europe/Berlin:20260710T160000
GEO:51.951252;8.512201
LOCATION:Biologische Station\, Niederheide 63\, Bielefeld
SEQUENCE:0
SUMMARY:Ein Schmetterling\, der flattern kann - Selbstgebaut!
UID:e_101256492_iv0
URL:http://pages.destination.one/de/teutonavigator/streaming/detail/Event/e
 _101256492/ein-schmetterling-der-flattern-kann-selbstgebaut
END:VEVENT
BEGIN:VTIMEZONE
TZID:Europe/Berlin
X-LIC-LOCATION:Europe/Berlin
BEGIN:DAYLIGHT
DTSTART:19700329T020000
RRULE:FREQ=YEARLY;BYDAY=-1SU;BYMONTH=3
TZNAME:CEST
TZOFFSETFROM:+0100
TZOFFSETTO:+0200
END:DAYLIGHT
BEGIN:STANDARD
DTSTART:19701025T030000
RRULE:FREQ=YEARLY;BYDAY=-1SU;BYMONTH=10
TZNAME:CET
TZOFFSETFROM:+0200
TZOFFSETTO:+0100
END:STANDARD
END:VTIMEZONE
END:VCALENDAR
