BEGIN:VCALENDAR
VERSION:2.0
PRODID:-//destination.one//NONSGML destination.meta API//DE
X-WR-CALDESC:A calendar powered by destination.meta
X-WR-CALNAME:teutonavigator Kalender via destination.meta
BEGIN:VEVENT
CATEGORIES:Kurs/Seminar/Hobby
DESCRIPTION:Kulturrucksack: Schnipsel-Poesie\n\nmehr Informationen unter ht
 tp://pages.destination.one/de/teutonavigator/streaming/detail/Event/e_1012
 56416/kulturrucksack-schnipsel-poesie
DTEND;TZID=Europe/Berlin:20260727T235900
DTSTAMP:20260419T233624Z
DTSTART;TZID=Europe/Berlin:20260727T163000
GEO:52.276364;8.878795
LOCATION:Quartiermanagement Rodenbeck Minden\, Zehlendorfer Weg 2-4\, Minde
 n
RRULE:FREQ=WEEKLY;UNTIL=20260727T220000;BYDAY=MO
SEQUENCE:0
SUMMARY:Kulturrucksack: Schnipsel-Poesie
UID:e_101256416_iv0
URL:http://pages.destination.one/de/teutonavigator/streaming/detail/Event/e
 _101256416/kulturrucksack-schnipsel-poesie
END:VEVENT
BEGIN:VTIMEZONE
TZID:Europe/Berlin
X-LIC-LOCATION:Europe/Berlin
BEGIN:DAYLIGHT
DTSTART:19700329T020000
RRULE:FREQ=YEARLY;BYDAY=-1SU;BYMONTH=3
TZNAME:CEST
TZOFFSETFROM:+0100
TZOFFSETTO:+0200
END:DAYLIGHT
BEGIN:STANDARD
DTSTART:19701025T030000
RRULE:FREQ=YEARLY;BYDAY=-1SU;BYMONTH=10
TZNAME:CET
TZOFFSETFROM:+0200
TZOFFSETTO:+0100
END:STANDARD
END:VTIMEZONE
END:VCALENDAR
