BEGIN:VCALENDAR
VERSION:2.0
PRODID:-//destination.one//NONSGML destination.meta API//DE
X-WR-CALDESC:A calendar powered by destination.meta
X-WR-CALNAME:teutonavigator Kalender via destination.meta
BEGIN:VEVENT
CATEGORIES:Familie und Kinder
CATEGORIES:Stadtfest/Kirmes/Jahrmarkt
CATEGORIES:Vortrag/Lesung
CATEGORIES:Gastronomie
DESCRIPTION:Der Garten der Poesie feiert sein 20-jähriges Jubiläum – und lä
 dt am 13. und 14. Juni 2026 ins Haus des Gastes in Lage-Hörste ein.\n\nmeh
 r Informationen unter http://pages.destination.one/de/teutonavigator/strea
 ming/detail/Event/e_101256292/20-jahre-garten-der-poesie
DTEND;TZID=Europe/Berlin:20260613T235900
DTSTAMP:20260421T190424Z
DTSTART;TZID=Europe/Berlin:20260613T110000
GEO:51.943078;8.749478
LOCATION:Haus des Gastes\, Freibadstraße 3\, Lage
ORGANIZER;CN=Garten der Poesie - Bernd Rosarius:mailto:bernd.rosarius@web.d
 e
RRULE:FREQ=DAILY;UNTIL=20260614T215900
SEQUENCE:0
SUMMARY:20 Jahre Garten der Poesie
UID:e_101256292_iv0
URL:http://pages.destination.one/de/teutonavigator/streaming/detail/Event/e
 _101256292/20-jahre-garten-der-poesie
END:VEVENT
BEGIN:VTIMEZONE
TZID:Europe/Berlin
X-LIC-LOCATION:Europe/Berlin
BEGIN:DAYLIGHT
DTSTART:19700329T020000
RRULE:FREQ=YEARLY;BYDAY=-1SU;BYMONTH=3
TZNAME:CEST
TZOFFSETFROM:+0100
TZOFFSETTO:+0200
END:DAYLIGHT
BEGIN:STANDARD
DTSTART:19701025T030000
RRULE:FREQ=YEARLY;BYDAY=-1SU;BYMONTH=10
TZNAME:CET
TZOFFSETFROM:+0200
TZOFFSETTO:+0100
END:STANDARD
END:VTIMEZONE
END:VCALENDAR
