BEGIN:VCALENDAR
VERSION:2.0
PRODID:-//destination.one//NONSGML destination.meta API//DE
X-WR-CALDESC:A calendar powered by destination.meta
X-WR-CALNAME:teutonavigator Kalender via destination.meta
BEGIN:VEVENT
CATEGORIES:Vortrag/Lesung
DESCRIPTION:Vortrag in der Stadtbibliothek Detmold anlässlich des 50-jährig
 en Bestehens der Städtepartnerschaft zwischen Detmold und Hasselt.\n\nmehr
  Informationen unter http://pages.destination.one/de/teutonavigator/stream
 ing/detail/Event/e_101256287/vortrag-50-jahre-st-dtepartnerschaft-detmold-
 hasselt-von-zygmund-krzywania
DTEND;TZID=Europe/Berlin:20260506T213000
DTSTAMP:20260422T111132Z
DTSTART;TZID=Europe/Berlin:20260506T190000
GEO:51.932224;8.880960
LOCATION:Stadtbibliothek\, Leopoldstraße 5\, Detmold
ORGANIZER;CN=Stadtbibliothek Detmold:mailto:stadtbuecherei@detmold.de
SEQUENCE:0
SUMMARY:Vortrag "50 Jahre Städtepartnerschaft Detmold - Hasselt" von Zygmun
 d Krzywania
UID:e_101256287_iv0
URL:http://pages.destination.one/de/teutonavigator/streaming/detail/Event/e
 _101256287/vortrag-50-jahre-st-dtepartnerschaft-detmold-hasselt-von-zygmun
 d-krzywania
END:VEVENT
BEGIN:VTIMEZONE
TZID:Europe/Berlin
X-LIC-LOCATION:Europe/Berlin
BEGIN:DAYLIGHT
DTSTART:19700329T020000
RRULE:FREQ=YEARLY;BYDAY=-1SU;BYMONTH=3
TZNAME:CEST
TZOFFSETFROM:+0100
TZOFFSETTO:+0200
END:DAYLIGHT
BEGIN:STANDARD
DTSTART:19701025T030000
RRULE:FREQ=YEARLY;BYDAY=-1SU;BYMONTH=10
TZNAME:CET
TZOFFSETFROM:+0200
TZOFFSETTO:+0100
END:STANDARD
END:VTIMEZONE
END:VCALENDAR
