BEGIN:VCALENDAR
VERSION:2.0
PRODID:-//destination.one//NONSGML destination.meta API//DE
X-WR-CALDESC:A calendar powered by destination.meta
X-WR-CALNAME:teutonavigator Kalender via destination.meta
BEGIN:VEVENT
CATEGORIES:Vortrag/Lesung
DESCRIPTION:\n\nmehr Informationen unter http://pages.destination.one/de/te
 utonavigator/streaming/detail/Event/e_101256283/lesung-tobias-haberl-unter
 -heiden-warum-ich-trotzdem-christ-bleibe
DTEND;TZID=Europe/Berlin:20260427T203000
DTSTAMP:20260421T130549Z
DTSTART;TZID=Europe/Berlin:20260427T190000
GEO:52.027810;8.900540
LOCATION:Volkshochschule Lemgo\, Kramerstr. 5\, Lemgo
ORGANIZER;CN=VHS Detmold-Lemgo und Kooperationspartner:mailto:info@vhs-detm
 old.de
SEQUENCE:0
SUMMARY:Lesung: Tobias Haberl: Unter Heiden. Warum ich trotzdem Christ blei
 be.
UID:e_101256283_iv0
URL:http://pages.destination.one/de/teutonavigator/streaming/detail/Event/e
 _101256283/lesung-tobias-haberl-unter-heiden-warum-ich-trotzdem-christ-ble
 ibe
END:VEVENT
BEGIN:VTIMEZONE
TZID:Europe/Berlin
X-LIC-LOCATION:Europe/Berlin
BEGIN:DAYLIGHT
DTSTART:19700329T020000
RRULE:FREQ=YEARLY;BYDAY=-1SU;BYMONTH=3
TZNAME:CEST
TZOFFSETFROM:+0100
TZOFFSETTO:+0200
END:DAYLIGHT
BEGIN:STANDARD
DTSTART:19701025T030000
RRULE:FREQ=YEARLY;BYDAY=-1SU;BYMONTH=10
TZNAME:CET
TZOFFSETFROM:+0200
TZOFFSETTO:+0100
END:STANDARD
END:VTIMEZONE
END:VCALENDAR
